BEGIN:VCALENDAR
VERSION:2.0
PRODID:-//Dalarnas D&ouml;vas F&ouml;rening - ECPv6.15.13//NONSGML v1.0//EN
CALSCALE:GREGORIAN
METHOD:PUBLISH
X-WR-CALNAME:Dalarnas D&ouml;vas F&ouml;rening
X-ORIGINAL-URL:https://dovtorget.se
X-WR-CALDESC:Händelser för Dalarnas D&ouml;vas F&ouml;rening
REFRESH-INTERVAL;VALUE=DURATION:PT1H
X-Robots-Tag:noindex
X-PUBLISHED-TTL:PT1H
BEGIN:VTIMEZONE
TZID:Europe/Stockholm
BEGIN:DAYLIGHT
TZOFFSETFROM:+0100
TZOFFSETTO:+0200
TZNAME:CEST
DTSTART:20250330T010000
END:DAYLIGHT
BEGIN:STANDARD
TZOFFSETFROM:+0200
TZOFFSETTO:+0100
TZNAME:CET
DTSTART:20251026T010000
END:STANDARD
BEGIN:DAYLIGHT
TZOFFSETFROM:+0100
TZOFFSETTO:+0200
TZNAME:CEST
DTSTART:20260329T010000
END:DAYLIGHT
BEGIN:STANDARD
TZOFFSETFROM:+0200
TZOFFSETTO:+0100
TZNAME:CET
DTSTART:20261025T010000
END:STANDARD
BEGIN:DAYLIGHT
TZOFFSETFROM:+0100
TZOFFSETTO:+0200
TZNAME:CEST
DTSTART:20270328T010000
END:DAYLIGHT
BEGIN:STANDARD
TZOFFSETFROM:+0200
TZOFFSETTO:+0100
TZNAME:CET
DTSTART:20271031T010000
END:STANDARD
END:VTIMEZONE
BEGIN:VEVENT
DTSTART;VALUE=DATE:20260207
DTEND;VALUE=DATE:20260208
DTSTAMP:20260421T104441
CREATED:20251110T084705Z
LAST-MODIFIED:20260123T092132Z
UID:7246-1770422400-1770508799@dovtorget.se
SUMMARY:SDR mellersta
DESCRIPTION:
URL:https://dovtorget.se/event/sdr-mellersta/
LOCATION:DövTorget\, Sparbanksgatan 6\, Leksand
CATEGORIES:DDF
ATTACH;FMTTYPE=image/jpeg:https://dovtorget.se/wp-content/uploads/2025/02/meeting-1015616_1920-1024x1024-1-e1767888330869.jpg
END:VEVENT
END:VCALENDAR