BEGIN:VCALENDAR
VERSION:2.0
PRODID:-//Dalarnas D&ouml;vas F&ouml;rening - ECPv6.15.13//NONSGML v1.0//EN
CALSCALE:GREGORIAN
METHOD:PUBLISH
X-WR-CALNAME:Dalarnas D&ouml;vas F&ouml;rening
X-ORIGINAL-URL:https://dovtorget.se
X-WR-CALDESC:Händelser för Dalarnas D&ouml;vas F&ouml;rening
REFRESH-INTERVAL;VALUE=DURATION:PT1H
X-Robots-Tag:noindex
X-PUBLISHED-TTL:PT1H
BEGIN:VTIMEZONE
TZID:Europe/Stockholm
BEGIN:DAYLIGHT
TZOFFSETFROM:+0100
TZOFFSETTO:+0200
TZNAME:CEST
DTSTART:20230326T010000
END:DAYLIGHT
BEGIN:STANDARD
TZOFFSETFROM:+0200
TZOFFSETTO:+0100
TZNAME:CET
DTSTART:20231029T010000
END:STANDARD
BEGIN:DAYLIGHT
TZOFFSETFROM:+0100
TZOFFSETTO:+0200
TZNAME:CEST
DTSTART:20240331T010000
END:DAYLIGHT
BEGIN:STANDARD
TZOFFSETFROM:+0200
TZOFFSETTO:+0100
TZNAME:CET
DTSTART:20241027T010000
END:STANDARD
BEGIN:DAYLIGHT
TZOFFSETFROM:+0100
TZOFFSETTO:+0200
TZNAME:CEST
DTSTART:20250330T010000
END:DAYLIGHT
BEGIN:STANDARD
TZOFFSETFROM:+0200
TZOFFSETTO:+0100
TZNAME:CET
DTSTART:20251026T010000
END:STANDARD
END:VTIMEZONE
BEGIN:VEVENT
DTSTART;TZID=Europe/Stockholm:20240515T190000
DTEND;TZID=Europe/Stockholm:20240515T220000
DTSTAMP:20260422T134958
CREATED:20240514T113740Z
LAST-MODIFIED:20240514T113740Z
UID:4837-1715799600-1715810400@dovtorget.se
SUMMARY:Dalom - SDB årsmöte
DESCRIPTION:
URL:https://dovtorget.se/event/dalom-sdb-arsmote/
LOCATION:DövTorget\, Sparbanksgatan 6\, Leksand
CATEGORIES:Dalom
ATTACH;FMTTYPE=image/jpeg:https://dovtorget.se/wp-content/uploads/2022/11/meeting-1015616_1920.jpg
END:VEVENT
END:VCALENDAR