BEGIN:VCALENDAR
VERSION:2.0
PRODID:-//Dalarnas D&ouml;vas F&ouml;rening - ECPv6.15.13//NONSGML v1.0//EN
CALSCALE:GREGORIAN
METHOD:PUBLISH
X-WR-CALNAME:Dalarnas D&ouml;vas F&ouml;rening
X-ORIGINAL-URL:https://dovtorget.se
X-WR-CALDESC:Händelser för Dalarnas D&ouml;vas F&ouml;rening
REFRESH-INTERVAL;VALUE=DURATION:PT1H
X-Robots-Tag:noindex
X-PUBLISHED-TTL:PT1H
BEGIN:VTIMEZONE
TZID:Europe/Stockholm
BEGIN:DAYLIGHT
TZOFFSETFROM:+0100
TZOFFSETTO:+0200
TZNAME:CEST
DTSTART:20230326T010000
END:DAYLIGHT
BEGIN:STANDARD
TZOFFSETFROM:+0200
TZOFFSETTO:+0100
TZNAME:CET
DTSTART:20231029T010000
END:STANDARD
BEGIN:DAYLIGHT
TZOFFSETFROM:+0100
TZOFFSETTO:+0200
TZNAME:CEST
DTSTART:20240331T010000
END:DAYLIGHT
BEGIN:STANDARD
TZOFFSETFROM:+0200
TZOFFSETTO:+0100
TZNAME:CET
DTSTART:20241027T010000
END:STANDARD
BEGIN:DAYLIGHT
TZOFFSETFROM:+0100
TZOFFSETTO:+0200
TZNAME:CEST
DTSTART:20250330T010000
END:DAYLIGHT
BEGIN:STANDARD
TZOFFSETFROM:+0200
TZOFFSETTO:+0100
TZNAME:CET
DTSTART:20251026T010000
END:STANDARD
END:VTIMEZONE
BEGIN:VEVENT
DTSTART;TZID=Europe/Stockholm:20241210T113000
DTEND;TZID=Europe/Stockholm:20241210T160000
DTSTAMP:20260422T042434
CREATED:20241122T141350Z
LAST-MODIFIED:20241122T141350Z
UID:5251-1733830200-1733846400@dovtorget.se
SUMMARY:FSDBs styrelsemöte
DESCRIPTION:
URL:https://dovtorget.se/event/fsdbs-styrelsemote/
LOCATION:DövTorget\, Sparbanksgatan 6\, Leksand
CATEGORIES:FSDB
ATTACH;FMTTYPE=image/jpeg:https://dovtorget.se/wp-content/uploads/2022/11/meeting-1015616_1920.jpg
END:VEVENT
END:VCALENDAR