BEGIN:VCALENDAR
VERSION:2.0
PRODID:-//Dalarnas D&ouml;vas F&ouml;rening - ECPv6.15.13//NONSGML v1.0//EN
CALSCALE:GREGORIAN
METHOD:PUBLISH
X-ORIGINAL-URL:https://dovtorget.se
X-WR-CALDESC:Händelser för Dalarnas D&ouml;vas F&ouml;rening
REFRESH-INTERVAL;VALUE=DURATION:PT1H
X-Robots-Tag:noindex
X-PUBLISHED-TTL:PT1H
BEGIN:VTIMEZONE
TZID:Europe/Stockholm
BEGIN:DAYLIGHT
TZOFFSETFROM:+0100
TZOFFSETTO:+0200
TZNAME:CEST
DTSTART:20250330T010000
END:DAYLIGHT
BEGIN:STANDARD
TZOFFSETFROM:+0200
TZOFFSETTO:+0100
TZNAME:CET
DTSTART:20251026T010000
END:STANDARD
BEGIN:DAYLIGHT
TZOFFSETFROM:+0100
TZOFFSETTO:+0200
TZNAME:CEST
DTSTART:20260329T010000
END:DAYLIGHT
BEGIN:STANDARD
TZOFFSETFROM:+0200
TZOFFSETTO:+0100
TZNAME:CET
DTSTART:20261025T010000
END:STANDARD
BEGIN:DAYLIGHT
TZOFFSETFROM:+0100
TZOFFSETTO:+0200
TZNAME:CEST
DTSTART:20270328T010000
END:DAYLIGHT
BEGIN:STANDARD
TZOFFSETFROM:+0200
TZOFFSETTO:+0100
TZNAME:CET
DTSTART:20271031T010000
END:STANDARD
END:VTIMEZONE
BEGIN:VEVENT
DTSTART;TZID=Europe/Stockholm:20260411T110000
DTEND;TZID=Europe/Stockholm:20260411T140000
DTSTAMP:20260419T220229
CREATED:20260312T130722Z
LAST-MODIFIED:20260312T130722Z
UID:7525-1775905200-1775916000@dovtorget.se
SUMMARY:Turkosfika
DESCRIPTION:
URL:https://dovtorget.se/event/turkosfika-16/
LOCATION:DövTorget\, Sparbanksgatan 6\, Leksand
CATEGORIES:DDF
ATTACH;FMTTYPE=image/png:https://dovtorget.se/wp-content/uploads/2026/01/Turkosfika_ny.png
END:VEVENT
BEGIN:VEVENT
DTSTART;TZID=Europe/Stockholm:20260414T100000
DTEND;TZID=Europe/Stockholm:20260414T160000
DTSTAMP:20260419T220229
CREATED:20260312T082701Z
LAST-MODIFIED:20260401T061648Z
UID:7518-1776160800-1776182400@dovtorget.se
SUMMARY:Dövas Kulturarvscentrum
DESCRIPTION:
URL:https://dovtorget.se/event/dovas-kulturarvscentrum/
LOCATION:DövTorget\, Sparbanksgatan 6\, Leksand
END:VEVENT
BEGIN:VEVENT
DTSTART;TZID=Europe/Stockholm:20260416T123000
DTEND;TZID=Europe/Stockholm:20260416T161500
DTSTAMP:20260419T220229
CREATED:20260319T075339Z
LAST-MODIFIED:20260408T074653Z
UID:7541-1776342600-1776356100@dovtorget.se
SUMMARY:FSDB:s styrelsemöte
DESCRIPTION:
URL:https://dovtorget.se/event/fsdb-styrelsemote/
LOCATION:DövTorget\, Sparbanksgatan 6\, Leksand
CATEGORIES:FSDB
END:VEVENT
BEGIN:VEVENT
DTSTART;TZID=Europe/Stockholm:20260416T163000
DTEND;TZID=Europe/Stockholm:20260416T220000
DTSTAMP:20260419T220229
CREATED:20260408T074847Z
LAST-MODIFIED:20260408T074847Z
UID:7575-1776357000-1776376800@dovtorget.se
SUMMARY:Daloms årsmöte
DESCRIPTION:
URL:https://dovtorget.se/event/daloms-arsmote/
LOCATION:DövTorget\, Sparbanksgatan 6\, Leksand
CATEGORIES:Dalom
ATTACH;FMTTYPE=image/jpeg:https://dovtorget.se/wp-content/uploads/2022/05/ordfklubba-Jh3b7w.tmp_.jpg
END:VEVENT
BEGIN:VEVENT
DTSTART;VALUE=DATE:20260418
DTEND;VALUE=DATE:20260419
DTSTAMP:20260419T220229
CREATED:20260302T095130Z
LAST-MODIFIED:20260408T075146Z
UID:7466-1776470400-1776556799@dovtorget.se
SUMMARY:Teaterföreställningen i Ludvika "Köpmannen på Marthas Vineyard"
DESCRIPTION:
URL:https://dovtorget.se/event/teaterforestallningen-i-ludvika-kopmannen-pa-marthas-vineyard/
LOCATION:Ludvika
CATEGORIES:DDF
ATTACH;FMTTYPE=image/jpeg:https://dovtorget.se/wp-content/uploads/2026/03/kopmannen-pa-marthas-vineyard-800x450px.jpg
END:VEVENT
BEGIN:VEVENT
DTSTART;TZID=Europe/Stockholm:20260419T150000
DTEND;TZID=Europe/Stockholm:20260419T180000
DTSTAMP:20260419T220229
CREATED:20260415T183839Z
LAST-MODIFIED:20260415T183839Z
UID:7594-1776610800-1776621600@dovtorget.se
SUMMARY:Dalirs styrelsemöte
DESCRIPTION:
URL:https://dovtorget.se/event/dalirs-styrelsemote-2/
LOCATION:DövTorget\, Sparbanksgatan 6\, Leksand
CATEGORIES:Dalir
ATTACH;FMTTYPE=image/jpeg:https://dovtorget.se/wp-content/uploads/2025/02/meeting-1015616_1920-1024x1024-1-e1767888330869.jpg
END:VEVENT
BEGIN:VEVENT
DTSTART;TZID=Europe/Stockholm:20260421T090000
DTEND;TZID=Europe/Stockholm:20260421T150000
DTSTAMP:20260419T220229
CREATED:20260319T075527Z
LAST-MODIFIED:20260319T075527Z
UID:7543-1776762000-1776783600@dovtorget.se
SUMMARY:FSDB:s friskvårdsträff
DESCRIPTION:
URL:https://dovtorget.se/event/fsdbs-friskvardstraff/
LOCATION:DövTorget\, Sparbanksgatan 6\, Leksand
CATEGORIES:FSDB
END:VEVENT
BEGIN:VEVENT
DTSTART;TZID=Europe/Stockholm:20260422T120000
DTEND;TZID=Europe/Stockholm:20260422T160000
DTSTAMP:20260419T220229
CREATED:20260312T081940Z
LAST-MODIFIED:20260312T081940Z
UID:7516-1776859200-1776873600@dovtorget.se
SUMMARY:DDP samkväm och digital senior
DESCRIPTION:
URL:https://dovtorget.se/event/ddp-samkvam-och-digital-senior/
LOCATION:DövTorget\, Sparbanksgatan 6\, Leksand
CATEGORIES:DDP
END:VEVENT
BEGIN:VEVENT
DTSTART;TZID=Europe/Stockholm:20260425T110000
DTEND;TZID=Europe/Stockholm:20260425T140000
DTSTAMP:20260419T220229
CREATED:20260312T130854Z
LAST-MODIFIED:20260312T130854Z
UID:7527-1777114800-1777125600@dovtorget.se
SUMMARY:Turkosfika
DESCRIPTION:
URL:https://dovtorget.se/event/turkosfika-17/
LOCATION:DövTorget\, Sparbanksgatan 6\, Leksand
CATEGORIES:DDF
ATTACH;FMTTYPE=image/png:https://dovtorget.se/wp-content/uploads/2026/01/Turkosfika_ny.png
END:VEVENT
BEGIN:VEVENT
DTSTART;TZID=Europe/Stockholm:20260509T110000
DTEND;TZID=Europe/Stockholm:20260509T140000
DTSTAMP:20260419T220229
CREATED:20260312T131007Z
LAST-MODIFIED:20260312T131007Z
UID:7529-1778324400-1778335200@dovtorget.se
SUMMARY:Turkosfika
DESCRIPTION:
URL:https://dovtorget.se/event/turkosfika-18/
LOCATION:DövTorget\, Sparbanksgatan 6\, Leksand
CATEGORIES:DDF
ATTACH;FMTTYPE=image/png:https://dovtorget.se/wp-content/uploads/2026/01/Turkosfika_ny.png
END:VEVENT
BEGIN:VEVENT
DTSTART;TZID=Europe/Stockholm:20260518T183000
DTEND;TZID=Europe/Stockholm:20260518T200000
DTSTAMP:20260419T220229
CREATED:20260419T141115Z
LAST-MODIFIED:20260419T141115Z
UID:7607-1779129000-1779134400@dovtorget.se
SUMMARY:Dalirs extra årsmöte
DESCRIPTION:
URL:https://dovtorget.se/event/dalirs-extra-arsmote-2/
LOCATION:DövTorget\, Sparbanksgatan 6\, Leksand
CATEGORIES:Dalir
ATTACH;FMTTYPE=image/png:https://dovtorget.se/wp-content/uploads/2022/02/DALIR-LOGO-50scalad.png
END:VEVENT
BEGIN:VEVENT
DTSTART;TZID=Europe/Stockholm:20260530T110000
DTEND;TZID=Europe/Stockholm:20260530T140000
DTSTAMP:20260419T220229
CREATED:20260312T131057Z
LAST-MODIFIED:20260312T131057Z
UID:7531-1780138800-1780149600@dovtorget.se
SUMMARY:Turkosfika
DESCRIPTION:
URL:https://dovtorget.se/event/turkosfika-19/
LOCATION:DövTorget\, Sparbanksgatan 6\, Leksand
CATEGORIES:DDF
ATTACH;FMTTYPE=image/png:https://dovtorget.se/wp-content/uploads/2026/01/Turkosfika_ny.png
END:VEVENT
BEGIN:VEVENT
DTSTART;TZID=Europe/Stockholm:20260613T110000
DTEND;TZID=Europe/Stockholm:20260613T140000
DTSTAMP:20260419T220229
CREATED:20260312T131151Z
LAST-MODIFIED:20260312T131151Z
UID:7533-1781348400-1781359200@dovtorget.se
SUMMARY:Turkosfika
DESCRIPTION:
URL:https://dovtorget.se/event/turkosfika-23/
LOCATION:DövTorget\, Sparbanksgatan 6\, Leksand
CATEGORIES:DDF
ATTACH;FMTTYPE=image/png:https://dovtorget.se/wp-content/uploads/2026/01/Turkosfika_ny.png
END:VEVENT
END:VCALENDAR