BEGIN:VCALENDAR
VERSION:2.0
PRODID:-//Dalarnas D&ouml;vas F&ouml;rening - ECPv6.15.13//NONSGML v1.0//EN
CALSCALE:GREGORIAN
METHOD:PUBLISH
X-ORIGINAL-URL:https://dovtorget.se
X-WR-CALDESC:Händelser för Dalarnas D&ouml;vas F&ouml;rening
REFRESH-INTERVAL;VALUE=DURATION:PT1H
X-Robots-Tag:noindex
X-PUBLISHED-TTL:PT1H
BEGIN:VTIMEZONE
TZID:Europe/Stockholm
BEGIN:DAYLIGHT
TZOFFSETFROM:+0100
TZOFFSETTO:+0200
TZNAME:CEST
DTSTART:20240331T010000
END:DAYLIGHT
BEGIN:STANDARD
TZOFFSETFROM:+0200
TZOFFSETTO:+0100
TZNAME:CET
DTSTART:20241027T010000
END:STANDARD
BEGIN:DAYLIGHT
TZOFFSETFROM:+0100
TZOFFSETTO:+0200
TZNAME:CEST
DTSTART:20250330T010000
END:DAYLIGHT
BEGIN:STANDARD
TZOFFSETFROM:+0200
TZOFFSETTO:+0100
TZNAME:CET
DTSTART:20251026T010000
END:STANDARD
BEGIN:DAYLIGHT
TZOFFSETFROM:+0100
TZOFFSETTO:+0200
TZNAME:CEST
DTSTART:20260329T010000
END:DAYLIGHT
BEGIN:STANDARD
TZOFFSETFROM:+0200
TZOFFSETTO:+0100
TZNAME:CET
DTSTART:20261025T010000
END:STANDARD
BEGIN:DAYLIGHT
TZOFFSETFROM:+0100
TZOFFSETTO:+0200
TZNAME:CEST
DTSTART:20270328T010000
END:DAYLIGHT
BEGIN:STANDARD
TZOFFSETFROM:+0200
TZOFFSETTO:+0100
TZNAME:CET
DTSTART:20271031T010000
END:STANDARD
END:VTIMEZONE
BEGIN:VEVENT
DTSTART;TZID=Europe/Stockholm:20260228T120000
DTEND;TZID=Europe/Stockholm:20260228T200000
DTSTAMP:20260422T170323
CREATED:20251201T085321Z
LAST-MODIFIED:20251201T085321Z
UID:7316-1772280000-1772308800@dovtorget.se
SUMMARY:DDSFK årsmöte
DESCRIPTION:
URL:https://dovtorget.se/event/ddsfk-arsmote/
CATEGORIES:Fiske
ATTACH;FMTTYPE=image/png:https://dovtorget.se/wp-content/uploads/2024/04/DDSFK-trans-logo.png
END:VEVENT
BEGIN:VEVENT
DTSTART;TZID=Europe/Stockholm:20260228T110000
DTEND;TZID=Europe/Stockholm:20260228T140000
DTSTAMP:20260422T170323
CREATED:20260122T125118Z
LAST-MODIFIED:20260122T132004Z
UID:7395-1772276400-1772287200@dovtorget.se
SUMMARY:Turkosfika
DESCRIPTION:
URL:https://dovtorget.se/event/turkosfika-13/
LOCATION:DövTorget\, Sparbanksgatan 6\, Leksand
CATEGORIES:DDF
ATTACH;FMTTYPE=image/png:https://dovtorget.se/wp-content/uploads/2026/01/Turkosfika_ny.png
END:VEVENT
BEGIN:VEVENT
DTSTART;TZID=Europe/Stockholm:20260225T120000
DTEND;TZID=Europe/Stockholm:20260225T160000
DTSTAMP:20260422T170323
CREATED:20260111T152246Z
LAST-MODIFIED:20260111T153111Z
UID:7369-1772020800-1772035200@dovtorget.se
SUMMARY:DDPs årsmöte
DESCRIPTION:
URL:https://dovtorget.se/event/ddps-arsmote-25-februari/
LOCATION:DövTorget\, Sparbanksgatan 6\, Leksand
CATEGORIES:DDP
ATTACH;FMTTYPE=image/jpeg:https://dovtorget.se/wp-content/uploads/2022/05/ordfklubba-Jh3b7w.tmp_.jpg
END:VEVENT
BEGIN:VEVENT
DTSTART;TZID=Europe/Stockholm:20260222T140000
DTEND;TZID=Europe/Stockholm:20260222T180000
DTSTAMP:20260422T170323
CREATED:20260203T073759Z
LAST-MODIFIED:20260203T073906Z
UID:7426-1771768800-1771783200@dovtorget.se
SUMMARY:BK Dalom
DESCRIPTION:
URL:https://dovtorget.se/event/bk-dalom/
LOCATION:DövTorget\, Sparbanksgatan 6\, Leksand
CATEGORIES:Dalom
ATTACH;FMTTYPE=image/jpeg:https://dovtorget.se/wp-content/uploads/2025/10/card-game-1834640_1280.jpg
END:VEVENT
BEGIN:VEVENT
DTSTART;VALUE=DATE:20260220
DTEND;VALUE=DATE:20260223
DTSTAMP:20260422T170323
CREATED:20251030T190921Z
LAST-MODIFIED:20251030T192022Z
UID:7237-1771545600-1771804799@dovtorget.se
SUMMARY:Bridgekurs - Dalom
DESCRIPTION:
URL:https://dovtorget.se/event/bridgekurs-dalom/
LOCATION:DövTorget\, Sparbanksgatan 6\, Leksand
CATEGORIES:Dalom
ATTACH;FMTTYPE=image/jpeg:https://dovtorget.se/wp-content/uploads/2025/10/card-game-1834640_1280.jpg
END:VEVENT
BEGIN:VEVENT
DTSTART;TZID=Europe/Stockholm:20260215T140000
DTEND;TZID=Europe/Stockholm:20260215T170000
DTSTAMP:20260422T170323
CREATED:20260123T084935Z
LAST-MODIFIED:20260123T085721Z
UID:7401-1771164000-1771174800@dovtorget.se
SUMMARY:Mellan himmel & jord - samkväm för kvinnor
DESCRIPTION:
URL:https://dovtorget.se/event/mellan-himmel-jord/
LOCATION:DövTorget\, Sparbanksgatan 6\, Leksand
CATEGORIES:Kvinno
END:VEVENT
BEGIN:VEVENT
DTSTART;TZID=Europe/Stockholm:20260214T110000
DTEND;TZID=Europe/Stockholm:20260214T140000
DTSTAMP:20260422T170323
CREATED:20260122T125005Z
LAST-MODIFIED:20260122T132058Z
UID:7393-1771066800-1771077600@dovtorget.se
SUMMARY:Turkosfika
DESCRIPTION:
URL:https://dovtorget.se/event/turkosfika-12/
LOCATION:DövTorget\, Sparbanksgatan 6\, Leksand
CATEGORIES:DDF
ATTACH;FMTTYPE=image/png:https://dovtorget.se/wp-content/uploads/2026/01/Turkosfika_ny.png
END:VEVENT
BEGIN:VEVENT
DTSTART;TZID=Europe/Stockholm:20260211T180000
DTEND;TZID=Europe/Stockholm:20260211T200000
DTSTAMP:20260422T170323
CREATED:20260123T091559Z
LAST-MODIFIED:20260126T110940Z
UID:7409-1770832800-1770840000@dovtorget.se
SUMMARY:Medlemsmöte om DDF:s värdegrund
DESCRIPTION:
URL:https://dovtorget.se/event/medlemsmote-om-ddfs-vardegrund/
LOCATION:DövTorget\, Sparbanksgatan 6\, Leksand
CATEGORIES:DDF
ATTACH;FMTTYPE=image/png:https://dovtorget.se/wp-content/uploads/2026/01/Gemini_Generated_Image_w7vfz7w7vfz7w7vf-e1767887765891.png
END:VEVENT
BEGIN:VEVENT
DTSTART;TZID=Europe/Stockholm:20260208T150000
DTEND;TZID=Europe/Stockholm:20260208T180000
DTSTAMP:20260422T170323
CREATED:20260108T160106Z
LAST-MODIFIED:20260108T163613Z
UID:7356-1770562800-1770573600@dovtorget.se
SUMMARY:Dalirs styrelsemöte
DESCRIPTION:
URL:https://dovtorget.se/event/dalirs-styrelsemote/
LOCATION:DövTorget\, Sparbanksgatan 6\, Leksand
CATEGORIES:Dalir
ATTACH;FMTTYPE=image/png:https://dovtorget.se/wp-content/uploads/2019/04/DALIR-LOGO-150-DPI-e1767890061750.png
END:VEVENT
BEGIN:VEVENT
DTSTART;TZID=Europe/Stockholm:20260208T130000
DTEND;TZID=Europe/Stockholm:20260208T150000
DTSTAMP:20260422T170323
CREATED:20260108T155928Z
LAST-MODIFIED:20260108T170811Z
UID:7354-1770555600-1770562800@dovtorget.se
SUMMARY:Sektionsledare träff
DESCRIPTION:
URL:https://dovtorget.se/event/sektionsledare-traff/
LOCATION:DövTorget\, Sparbanksgatan 6\, Leksand
CATEGORIES:Dalir
ATTACH;FMTTYPE=image/jpeg:https://dovtorget.se/wp-content/uploads/2025/02/meeting-1015616_1920-1024x1024-1-e1767888330869.jpg
END:VEVENT
BEGIN:VEVENT
DTSTART;VALUE=DATE:20260207
DTEND;VALUE=DATE:20260208
DTSTAMP:20260422T170323
CREATED:20251110T084705Z
LAST-MODIFIED:20260123T092132Z
UID:7246-1770422400-1770508799@dovtorget.se
SUMMARY:SDR mellersta
DESCRIPTION:
URL:https://dovtorget.se/event/sdr-mellersta/
LOCATION:DövTorget\, Sparbanksgatan 6\, Leksand
CATEGORIES:DDF
ATTACH;FMTTYPE=image/jpeg:https://dovtorget.se/wp-content/uploads/2025/02/meeting-1015616_1920-1024x1024-1-e1767888330869.jpg
END:VEVENT
BEGIN:VEVENT
DTSTART;TZID=Europe/Stockholm:20260205T120000
DTEND;TZID=Europe/Stockholm:20260205T150000
DTSTAMP:20260422T170323
CREATED:20260202T170841Z
LAST-MODIFIED:20260202T170841Z
UID:7424-1770292800-1770303600@dovtorget.se
SUMMARY:DDPs samkväm
DESCRIPTION:
URL:https://dovtorget.se/event/ddps-samkvam/
LOCATION:DövTorget\, Sparbanksgatan 6\, Leksand
CATEGORIES:DDP
ATTACH;FMTTYPE=image/png:https://dovtorget.se/wp-content/uploads/2025/09/couple-9321745_640-e1757670101220.png
END:VEVENT
BEGIN:VEVENT
DTSTART;TZID=Europe/Stockholm:20260204T180000
DTEND;TZID=Europe/Stockholm:20260204T200000
DTSTAMP:20260422T170323
CREATED:20260126T110816Z
LAST-MODIFIED:20260127T080701Z
UID:7416-1770228000-1770235200@dovtorget.se
SUMMARY:Medlemsmöte: Sveriges Dövas Riksförbunds framtida namn
DESCRIPTION:
URL:https://dovtorget.se/event/medlemsmote-sdrs-forslag-om-namnbyte/
LOCATION:DövTorget\, Sparbanksgatan 6\, Leksand
CATEGORIES:DDF
ATTACH;FMTTYPE=image/png:https://dovtorget.se/wp-content/uploads/2026/01/Gemini_Generated_Image_w7vfz7w7vfz7w7vf-e1767887765891.png
END:VEVENT
BEGIN:VEVENT
DTSTART;TZID=Europe/Stockholm:20260131T110000
DTEND;TZID=Europe/Stockholm:20260131T140000
DTSTAMP:20260422T170323
CREATED:20260122T124853Z
LAST-MODIFIED:20260122T132159Z
UID:7391-1769857200-1769868000@dovtorget.se
SUMMARY:Turkosfika
DESCRIPTION:
URL:https://dovtorget.se/event/turkosfika-11/
LOCATION:DövTorget\, Sparbanksgatan 6\, Leksand
CATEGORIES:DDF
ATTACH;FMTTYPE=image/png:https://dovtorget.se/wp-content/uploads/2026/01/Turkosfika_ny.png
END:VEVENT
BEGIN:VEVENT
DTSTART;TZID=Europe/Stockholm:20260128T103000
DTEND;TZID=Europe/Stockholm:20260128T120000
DTSTAMP:20260422T170323
CREATED:20260111T154056Z
LAST-MODIFIED:20260111T154141Z
UID:7383-1769596200-1769601600@dovtorget.se
SUMMARY:Mötesplats 65+
DESCRIPTION:Föreläsning om kroppens lymfsystemet
URL:https://dovtorget.se/event/motesplats-65-3/
LOCATION:Hagagatan 4\, Hagagatan 4\, Leksand
CATEGORIES:Leksands kommun
ATTACH;FMTTYPE=image/png:https://dovtorget.se/wp-content/uploads/2026/01/Gemini_Generated_Image_u4j9ydu4j9ydu4j9.png
END:VEVENT
BEGIN:VEVENT
DTSTART;TZID=Europe/Stockholm:20260127T130000
DTEND;TZID=Europe/Stockholm:20260127T183000
DTSTAMP:20260422T170323
CREATED:20251027T110525Z
LAST-MODIFIED:20251028T103531Z
UID:7233-1769518800-1769538600@dovtorget.se
SUMMARY:FSDB Dalarna föreläsning
DESCRIPTION:
URL:https://dovtorget.se/event/fsdb-dalarna-forelasning/
LOCATION:DövTorget\, Sparbanksgatan 6\, Leksand
CATEGORIES:FSDB
ATTACH;FMTTYPE=image/jpeg:https://dovtorget.se/wp-content/uploads/2025/02/meeting-1015616_1920-1024x1024-1-e1767888330869.jpg
END:VEVENT
BEGIN:VEVENT
DTSTART;TZID=Europe/Stockholm:20260123T080000
DTEND;TZID=Europe/Stockholm:20260123T180000
DTSTAMP:20260422T170323
CREATED:20260123T090346Z
LAST-MODIFIED:20260123T090346Z
UID:7407-1769155200-1769191200@dovtorget.se
SUMMARY:Årsmöte FSDB
DESCRIPTION:
URL:https://dovtorget.se/event/arsmote-fsdb/
LOCATION:DövTorget\, Sparbanksgatan 6\, Leksand
CATEGORIES:FSDB
ATTACH;FMTTYPE=image/jpeg:https://dovtorget.se/wp-content/uploads/2022/05/ordfklubba-Jh3b7w.tmp_.jpg
END:VEVENT
BEGIN:VEVENT
DTSTART;TZID=Europe/Stockholm:20260121T173000
DTEND;TZID=Europe/Stockholm:20260121T200000
DTSTAMP:20260422T170323
CREATED:20260108T154841Z
LAST-MODIFIED:20260108T155729Z
UID:7348-1769016600-1769025600@dovtorget.se
SUMMARY:Medlemsmöte - Teckenspråkets ställning
DESCRIPTION:
URL:https://dovtorget.se/event/medlemsmote-teckensprakets-stallning/
LOCATION:DövTorget\, Sparbanksgatan 6\, Leksand
CATEGORIES:DDF
ATTACH;FMTTYPE=image/png:https://dovtorget.se/wp-content/uploads/2026/01/Gemini_Generated_Image_w7vfz7w7vfz7w7vf-e1767887765891.png
END:VEVENT
BEGIN:VEVENT
DTSTART;TZID=Europe/Stockholm:20260116T170000
DTEND;TZID=Europe/Stockholm:20260117T150000
DTSTAMP:20260422T170323
CREATED:20251127T232400Z
LAST-MODIFIED:20251127T232400Z
UID:7312-1768582800-1768662000@dovtorget.se
SUMMARY:Workshop för klubbar
DESCRIPTION:
URL:https://dovtorget.se/event/workshop-for-klubbar-3/
LOCATION:Sjugare
CATEGORIES:DDF
ATTACH;FMTTYPE=image/jpeg:https://dovtorget.se/wp-content/uploads/2025/11/business-4503866_1920.jpg
END:VEVENT
BEGIN:VEVENT
DTSTART;TZID=Europe/Stockholm:20260115T103000
DTEND;TZID=Europe/Stockholm:20260115T120000
DTSTAMP:20260422T170323
CREATED:20260111T152752Z
LAST-MODIFIED:20260111T153330Z
UID:7371-1768473000-1768478400@dovtorget.se
SUMMARY:Mötesplats 65+
DESCRIPTION:Information om hemtjänstens verksamhet
URL:https://dovtorget.se/event/motesplats-65/
LOCATION:Hagagatan 4\, Hagagatan 4\, Leksand
CATEGORIES:Leksands kommun
ATTACH;FMTTYPE=image/png:https://dovtorget.se/wp-content/uploads/2026/01/Gemini_Generated_Image_u4j9ydu4j9ydu4j9.png
END:VEVENT
BEGIN:VEVENT
DTSTART;TZID=Europe/Stockholm:20260114T170000
DTEND;TZID=Europe/Stockholm:20260114T200000
DTSTAMP:20260422T170323
CREATED:20260108T162819Z
LAST-MODIFIED:20260108T162819Z
UID:7360-1768410000-1768420800@dovtorget.se
SUMMARY:DDFs styrelsemöte
DESCRIPTION:
URL:https://dovtorget.se/event/ddfs-styrelsemote/
LOCATION:DövTorget\, Sparbanksgatan 6\, Leksand
CATEGORIES:DDF
ATTACH;FMTTYPE=image/jpeg:https://dovtorget.se/wp-content/uploads/2025/02/meeting-1015616_1920-1024x1024-1-e1767888330869.jpg
END:VEVENT
BEGIN:VEVENT
DTSTART;TZID=Europe/Stockholm:20260114T120000
DTEND;TZID=Europe/Stockholm:20260114T150000
DTSTAMP:20260422T170323
CREATED:20260111T151956Z
LAST-MODIFIED:20260111T151956Z
UID:7367-1768392000-1768402800@dovtorget.se
SUMMARY:DDPs samkväm 14 januari
DESCRIPTION:
URL:https://dovtorget.se/event/ddps-samkvam-14-januari/
LOCATION:DövTorget\, Sparbanksgatan 6\, Leksand
CATEGORIES:DDP
ATTACH;FMTTYPE=image/png:https://dovtorget.se/wp-content/uploads/2025/09/couple-9321745_640-e1757670101220.png
END:VEVENT
BEGIN:VEVENT
DTSTART;TZID=Europe/Stockholm:20260113T080000
DTEND;TZID=Europe/Stockholm:20260113T120000
DTSTAMP:20260422T170323
CREATED:20251120T122310Z
LAST-MODIFIED:20260108T160653Z
UID:7297-1768291200-1768305600@dovtorget.se
SUMMARY:Dövas Kulturarvscentrum
DESCRIPTION:
URL:https://dovtorget.se/event/dovas-kulturarvscentrum-dkc/
LOCATION:DövTorget\, Sparbanksgatan 6\, Leksand
ATTACH;FMTTYPE=image/jpeg:https://dovtorget.se/wp-content/uploads/2025/02/meeting-1015616_1920-1024x1024-1-e1767888330869.jpg
END:VEVENT
BEGIN:VEVENT
DTSTART;TZID=Europe/Stockholm:20260110T130000
DTEND;TZID=Europe/Stockholm:20260110T170000
DTSTAMP:20260422T170323
CREATED:20251111T074708Z
LAST-MODIFIED:20260108T183849Z
UID:7252-1768050000-1768064400@dovtorget.se
SUMMARY:Kvinnosektion medlemsmöte
DESCRIPTION:
URL:https://dovtorget.se/event/kvinnosektion-medlemsmote/
LOCATION:DövTorget\, Sparbanksgatan 6\, Leksand
CATEGORIES:Kvinno
ATTACH;FMTTYPE=image/jpeg:https://dovtorget.se/wp-content/uploads/2024/06/women-7808776_1280.jpg
END:VEVENT
BEGIN:VEVENT
DTSTART;TZID=Europe/Stockholm:20251231T180000
DTEND;TZID=Europe/Stockholm:20260101T010000
DTSTAMP:20260422T170323
CREATED:20251127T230704Z
LAST-MODIFIED:20251127T230722Z
UID:7309-1767204000-1767229200@dovtorget.se
SUMMARY:Nyårsafton
DESCRIPTION:
URL:https://dovtorget.se/event/nyarsafton/
LOCATION:DövTorget\, Sparbanksgatan 6\, Leksand
CATEGORIES:DDF
ATTACH;FMTTYPE=image/jpeg:https://dovtorget.se/wp-content/uploads/2025/11/Nyarsafton.jpg
END:VEVENT
BEGIN:VEVENT
DTSTART;TZID=Europe/Stockholm:20251224T110000
DTEND;TZID=Europe/Stockholm:20251224T150000
DTSTAMP:20260422T170323
CREATED:20251127T225543Z
LAST-MODIFIED:20251127T230328Z
UID:7306-1766574000-1766588400@dovtorget.se
SUMMARY:Julafton för de ensamma
DESCRIPTION:
URL:https://dovtorget.se/event/julafton-for-de-ensamma/
LOCATION:DövTorget\, Sparbanksgatan 6\, Leksand
CATEGORIES:DDF
ATTACH;FMTTYPE=image/jpeg:https://dovtorget.se/wp-content/uploads/2025/11/ai-generated-8448498_1920.jpg
END:VEVENT
BEGIN:VEVENT
DTSTART;TZID=Europe/Stockholm:20251214T100000
DTEND;TZID=Europe/Stockholm:20251214T160000
DTSTAMP:20260422T170323
CREATED:20250928T230141Z
LAST-MODIFIED:20251110T084837Z
UID:7192-1765706400-1765728000@dovtorget.se
SUMMARY:Tomteland
DESCRIPTION:
URL:https://dovtorget.se/event/tomteland/
LOCATION:Tomteland
CATEGORIES:Familj
ATTACH;FMTTYPE=image/jpeg:https://dovtorget.se/wp-content/uploads/2022/08/Tomteland.jpeg
END:VEVENT
BEGIN:VEVENT
DTSTART;TZID=Europe/Stockholm:20251206T160000
DTEND;TZID=Europe/Stockholm:20251206T200000
DTSTAMP:20260422T170323
CREATED:20251127T224901Z
LAST-MODIFIED:20251127T225204Z
UID:7303-1765036800-1765051200@dovtorget.se
SUMMARY:Filmvisning - Jesus
DESCRIPTION:
URL:https://dovtorget.se/event/filmvisning-jesus/
LOCATION:DövTorget\, Sparbanksgatan 6\, Leksand
CATEGORIES:DDF
ATTACH;FMTTYPE=image/jpeg:https://dovtorget.se/wp-content/uploads/2025/11/Jesus-_deaf2.jpeg
END:VEVENT
BEGIN:VEVENT
DTSTART;TZID=Europe/Stockholm:20251129T110000
DTEND;TZID=Europe/Stockholm:20251129T180000
DTSTAMP:20260422T170323
CREATED:20250903T203507Z
LAST-MODIFIED:20250903T203507Z
UID:7119-1764414000-1764439200@dovtorget.se
SUMMARY:Fiskeklubbens höstmöte
DESCRIPTION:
URL:https://dovtorget.se/event/fiskeklubbens-hostmote/
LOCATION:DövTorget\, Sparbanksgatan 6\, Leksand
CATEGORIES:Fiske
ATTACH;FMTTYPE=image/jpeg:https://dovtorget.se/wp-content/uploads/2025/02/meeting-1015616_1920-1024x1024-1-e1767888330869.jpg
END:VEVENT
BEGIN:VEVENT
DTSTART;TZID=Europe/Stockholm:20251118T100000
DTEND;TZID=Europe/Stockholm:20251118T163000
DTSTAMP:20260422T170323
CREATED:20250928T232433Z
LAST-MODIFIED:20251021T084617Z
UID:7195-1763460000-1763483400@dovtorget.se
SUMMARY:FSDB Dalarna styrelsemöte
DESCRIPTION:
URL:https://dovtorget.se/event/fsdb-dalarna-styrelsemote-2/
LOCATION:DövTorget\, Sparbanksgatan 6\, Leksand
CATEGORIES:FSDB
ATTACH;FMTTYPE=image/jpeg:https://dovtorget.se/wp-content/uploads/2025/02/meeting-1015616_1920-1024x1024-1-e1767888330869.jpg
END:VEVENT
END:VCALENDAR