BEGIN:VCALENDAR
VERSION:2.0
PRODID:-//Dalarnas D&ouml;vas F&ouml;rening - ECPv6.15.13//NONSGML v1.0//EN
CALSCALE:GREGORIAN
METHOD:PUBLISH
X-WR-CALNAME:Dalarnas D&ouml;vas F&ouml;rening
X-ORIGINAL-URL:https://dovtorget.se
X-WR-CALDESC:Händelser för Dalarnas D&ouml;vas F&ouml;rening
REFRESH-INTERVAL;VALUE=DURATION:PT1H
X-Robots-Tag:noindex
X-PUBLISHED-TTL:PT1H
BEGIN:VTIMEZONE
TZID:Europe/Stockholm
BEGIN:DAYLIGHT
TZOFFSETFROM:+0100
TZOFFSETTO:+0200
TZNAME:CEST
DTSTART:20240331T010000
END:DAYLIGHT
BEGIN:STANDARD
TZOFFSETFROM:+0200
TZOFFSETTO:+0100
TZNAME:CET
DTSTART:20241027T010000
END:STANDARD
BEGIN:DAYLIGHT
TZOFFSETFROM:+0100
TZOFFSETTO:+0200
TZNAME:CEST
DTSTART:20250330T010000
END:DAYLIGHT
BEGIN:STANDARD
TZOFFSETFROM:+0200
TZOFFSETTO:+0100
TZNAME:CET
DTSTART:20251026T010000
END:STANDARD
BEGIN:DAYLIGHT
TZOFFSETFROM:+0100
TZOFFSETTO:+0200
TZNAME:CEST
DTSTART:20260329T010000
END:DAYLIGHT
BEGIN:STANDARD
TZOFFSETFROM:+0200
TZOFFSETTO:+0100
TZNAME:CET
DTSTART:20261025T010000
END:STANDARD
BEGIN:DAYLIGHT
TZOFFSETFROM:+0100
TZOFFSETTO:+0200
TZNAME:CEST
DTSTART:20270328T010000
END:DAYLIGHT
BEGIN:STANDARD
TZOFFSETFROM:+0200
TZOFFSETTO:+0100
TZNAME:CET
DTSTART:20271031T010000
END:STANDARD
END:VTIMEZONE
BEGIN:VEVENT
DTSTART;TZID=Europe/Stockholm:20260114T170000
DTEND;TZID=Europe/Stockholm:20260114T200000
DTSTAMP:20260422T201211
CREATED:20260108T162819Z
LAST-MODIFIED:20260108T162819Z
UID:7360-1768410000-1768420800@dovtorget.se
SUMMARY:DDFs styrelsemöte
DESCRIPTION:
URL:https://dovtorget.se/event/ddfs-styrelsemote/
LOCATION:DövTorget\, Sparbanksgatan 6\, Leksand
CATEGORIES:DDF
ATTACH;FMTTYPE=image/jpeg:https://dovtorget.se/wp-content/uploads/2025/02/meeting-1015616_1920-1024x1024-1-e1767888330869.jpg
END:VEVENT
BEGIN:VEVENT
DTSTART;TZID=Europe/Stockholm:20260114T120000
DTEND;TZID=Europe/Stockholm:20260114T150000
DTSTAMP:20260422T201211
CREATED:20260111T151956Z
LAST-MODIFIED:20260111T151956Z
UID:7367-1768392000-1768402800@dovtorget.se
SUMMARY:DDPs samkväm 14 januari
DESCRIPTION:
URL:https://dovtorget.se/event/ddps-samkvam-14-januari/
LOCATION:DövTorget\, Sparbanksgatan 6\, Leksand
CATEGORIES:DDP
ATTACH;FMTTYPE=image/png:https://dovtorget.se/wp-content/uploads/2025/09/couple-9321745_640-e1757670101220.png
END:VEVENT
BEGIN:VEVENT
DTSTART;TZID=Europe/Stockholm:20260113T080000
DTEND;TZID=Europe/Stockholm:20260113T120000
DTSTAMP:20260422T201211
CREATED:20251120T122310Z
LAST-MODIFIED:20260108T160653Z
UID:7297-1768291200-1768305600@dovtorget.se
SUMMARY:Dövas Kulturarvscentrum
DESCRIPTION:
URL:https://dovtorget.se/event/dovas-kulturarvscentrum-dkc/
LOCATION:DövTorget\, Sparbanksgatan 6\, Leksand
ATTACH;FMTTYPE=image/jpeg:https://dovtorget.se/wp-content/uploads/2025/02/meeting-1015616_1920-1024x1024-1-e1767888330869.jpg
END:VEVENT
BEGIN:VEVENT
DTSTART;TZID=Europe/Stockholm:20260110T130000
DTEND;TZID=Europe/Stockholm:20260110T170000
DTSTAMP:20260422T201211
CREATED:20251111T074708Z
LAST-MODIFIED:20260108T183849Z
UID:7252-1768050000-1768064400@dovtorget.se
SUMMARY:Kvinnosektion medlemsmöte
DESCRIPTION:
URL:https://dovtorget.se/event/kvinnosektion-medlemsmote/
LOCATION:DövTorget\, Sparbanksgatan 6\, Leksand
CATEGORIES:Kvinno
ATTACH;FMTTYPE=image/jpeg:https://dovtorget.se/wp-content/uploads/2024/06/women-7808776_1280.jpg
END:VEVENT
BEGIN:VEVENT
DTSTART;TZID=Europe/Stockholm:20251231T180000
DTEND;TZID=Europe/Stockholm:20260101T010000
DTSTAMP:20260422T201211
CREATED:20251127T230704Z
LAST-MODIFIED:20251127T230722Z
UID:7309-1767204000-1767229200@dovtorget.se
SUMMARY:Nyårsafton
DESCRIPTION:
URL:https://dovtorget.se/event/nyarsafton/
LOCATION:DövTorget\, Sparbanksgatan 6\, Leksand
CATEGORIES:DDF
ATTACH;FMTTYPE=image/jpeg:https://dovtorget.se/wp-content/uploads/2025/11/Nyarsafton.jpg
END:VEVENT
BEGIN:VEVENT
DTSTART;TZID=Europe/Stockholm:20251224T110000
DTEND;TZID=Europe/Stockholm:20251224T150000
DTSTAMP:20260422T201211
CREATED:20251127T225543Z
LAST-MODIFIED:20251127T230328Z
UID:7306-1766574000-1766588400@dovtorget.se
SUMMARY:Julafton för de ensamma
DESCRIPTION:
URL:https://dovtorget.se/event/julafton-for-de-ensamma/
LOCATION:DövTorget\, Sparbanksgatan 6\, Leksand
CATEGORIES:DDF
ATTACH;FMTTYPE=image/jpeg:https://dovtorget.se/wp-content/uploads/2025/11/ai-generated-8448498_1920.jpg
END:VEVENT
BEGIN:VEVENT
DTSTART;TZID=Europe/Stockholm:20251214T100000
DTEND;TZID=Europe/Stockholm:20251214T160000
DTSTAMP:20260422T201211
CREATED:20250928T230141Z
LAST-MODIFIED:20251110T084837Z
UID:7192-1765706400-1765728000@dovtorget.se
SUMMARY:Tomteland
DESCRIPTION:
URL:https://dovtorget.se/event/tomteland/
LOCATION:Tomteland
CATEGORIES:Familj
ATTACH;FMTTYPE=image/jpeg:https://dovtorget.se/wp-content/uploads/2022/08/Tomteland.jpeg
END:VEVENT
BEGIN:VEVENT
DTSTART;TZID=Europe/Stockholm:20251206T160000
DTEND;TZID=Europe/Stockholm:20251206T200000
DTSTAMP:20260422T201211
CREATED:20251127T224901Z
LAST-MODIFIED:20251127T225204Z
UID:7303-1765036800-1765051200@dovtorget.se
SUMMARY:Filmvisning - Jesus
DESCRIPTION:
URL:https://dovtorget.se/event/filmvisning-jesus/
LOCATION:DövTorget\, Sparbanksgatan 6\, Leksand
CATEGORIES:DDF
ATTACH;FMTTYPE=image/jpeg:https://dovtorget.se/wp-content/uploads/2025/11/Jesus-_deaf2.jpeg
END:VEVENT
BEGIN:VEVENT
DTSTART;TZID=Europe/Stockholm:20251129T110000
DTEND;TZID=Europe/Stockholm:20251129T180000
DTSTAMP:20260422T201211
CREATED:20250903T203507Z
LAST-MODIFIED:20250903T203507Z
UID:7119-1764414000-1764439200@dovtorget.se
SUMMARY:Fiskeklubbens höstmöte
DESCRIPTION:
URL:https://dovtorget.se/event/fiskeklubbens-hostmote/
LOCATION:DövTorget\, Sparbanksgatan 6\, Leksand
CATEGORIES:Fiske
ATTACH;FMTTYPE=image/jpeg:https://dovtorget.se/wp-content/uploads/2025/02/meeting-1015616_1920-1024x1024-1-e1767888330869.jpg
END:VEVENT
BEGIN:VEVENT
DTSTART;TZID=Europe/Stockholm:20251118T100000
DTEND;TZID=Europe/Stockholm:20251118T163000
DTSTAMP:20260422T201211
CREATED:20250928T232433Z
LAST-MODIFIED:20251021T084617Z
UID:7195-1763460000-1763483400@dovtorget.se
SUMMARY:FSDB Dalarna styrelsemöte
DESCRIPTION:
URL:https://dovtorget.se/event/fsdb-dalarna-styrelsemote-2/
LOCATION:DövTorget\, Sparbanksgatan 6\, Leksand
CATEGORIES:FSDB
ATTACH;FMTTYPE=image/jpeg:https://dovtorget.se/wp-content/uploads/2025/02/meeting-1015616_1920-1024x1024-1-e1767888330869.jpg
END:VEVENT
BEGIN:VEVENT
DTSTART;TZID=Europe/Stockholm:20251115T160000
DTEND;TZID=Europe/Stockholm:20251115T180000
DTSTAMP:20260422T201211
CREATED:20250928T225852Z
LAST-MODIFIED:20250928T225852Z
UID:7189-1763222400-1763229600@dovtorget.se
SUMMARY:Prova-på-klättring
DESCRIPTION:
URL:https://dovtorget.se/event/prova-pa-klattring/
LOCATION:Falun
CATEGORIES:Familj
ATTACH;FMTTYPE=image/jpeg:https://dovtorget.se/wp-content/uploads/2025/09/backup-485955_1280-e1759100311550.jpg
END:VEVENT
BEGIN:VEVENT
DTSTART;TZID=Europe/Stockholm:20251104T190000
DTEND;TZID=Europe/Stockholm:20251104T210000
DTSTAMP:20260422T201211
CREATED:20250928T225300Z
LAST-MODIFIED:20250928T225300Z
UID:7186-1762282800-1762290000@dovtorget.se
SUMMARY:Teaterföreställning Min bäste ovän
DESCRIPTION:
URL:https://dovtorget.se/event/teaterforestallning-min-baste-ovan/
LOCATION:Sveasalen\, Leksand
CATEGORIES:DDF
ATTACH;FMTTYPE=image/avif:https://dovtorget.se/wp-content/uploads/2025/09/MinBasteOvan.avif
END:VEVENT
BEGIN:VEVENT
DTSTART;TZID=Europe/Stockholm:20251025T110000
DTEND;TZID=Europe/Stockholm:20251025T160000
DTSTAMP:20260422T201211
CREATED:20250903T210342Z
LAST-MODIFIED:20250903T210342Z
UID:7124-1761390000-1761408000@dovtorget.se
SUMMARY:Länsmöte
DESCRIPTION:
URL:https://dovtorget.se/event/lansmote-3/
LOCATION:Moskogen\, Leksand
CATEGORIES:DDF
ATTACH;FMTTYPE=image/jpeg:https://dovtorget.se/wp-content/uploads/2025/02/meeting-1015616_1920-1024x1024-1-e1767888330869.jpg
END:VEVENT
BEGIN:VEVENT
DTSTART;TZID=Europe/Stockholm:20251021T170000
DTEND;TZID=Europe/Stockholm:20251021T183000
DTSTAMP:20260422T201211
CREATED:20251015T094357Z
LAST-MODIFIED:20251015T094357Z
UID:7219-1761066000-1761071400@dovtorget.se
SUMMARY:Mental träning
DESCRIPTION:
URL:https://dovtorget.se/event/mental-traning/
LOCATION:DövTorget\, Sparbanksgatan 6\, Leksand
CATEGORIES:Dalir
ATTACH;FMTTYPE=image/jpeg:https://dovtorget.se/wp-content/uploads/2025/02/meeting-1015616_1920-1024x1024-1-e1767888330869.jpg
END:VEVENT
BEGIN:VEVENT
DTSTART;TZID=Europe/Stockholm:20251015T190000
DTEND;TZID=Europe/Stockholm:20251015T210000
DTSTAMP:20260422T201211
CREATED:20250928T224325Z
LAST-MODIFIED:20250928T224325Z
UID:7181-1760554800-1760562000@dovtorget.se
SUMMARY:Visir Bio : Salt och Pepper
DESCRIPTION:
URL:https://dovtorget.se/event/visir-bio-salt-och-pepper/
LOCATION:Visir Bio
CATEGORIES:DDF
ATTACH;FMTTYPE=image/jpeg:https://dovtorget.se/wp-content/uploads/2025/09/IMG_334215256436.jpeg
END:VEVENT
BEGIN:VEVENT
DTSTART;TZID=Europe/Stockholm:20251015T150000
DTEND;TZID=Europe/Stockholm:20251015T180000
DTSTAMP:20260422T201211
CREATED:20250928T224631Z
LAST-MODIFIED:20250928T224631Z
UID:7184-1760540400-1760551200@dovtorget.se
SUMMARY:Samkväm för pensionärer
DESCRIPTION:
URL:https://dovtorget.se/event/samkvam-for-pensionarer-2/
LOCATION:DövTorget\, Sparbanksgatan 6\, Leksand
CATEGORIES:DDP
ATTACH;FMTTYPE=image/jpeg:https://dovtorget.se/wp-content/uploads/2021/06/grandparents-scaled-1.jpg
END:VEVENT
BEGIN:VEVENT
DTSTART;TZID=Europe/Stockholm:20251009T100000
DTEND;TZID=Europe/Stockholm:20251009T120000
DTSTAMP:20260422T201211
CREATED:20250928T224116Z
LAST-MODIFIED:20250928T231705Z
UID:7179-1760004000-1760011200@dovtorget.se
SUMMARY:Mötesplats 65+ Psykisk hälsa och ohälsa
DESCRIPTION:
URL:https://dovtorget.se/event/motesplats-65-psykisk-halsa-och-ohalsa/
LOCATION:Hagagatan 4\, Hagagatan 4\, Leksand
CATEGORIES:DDP
ATTACH;FMTTYPE=image/png:https://dovtorget.se/wp-content/uploads/2025/09/couple-9321745_640-e1757670101220.png
END:VEVENT
BEGIN:VEVENT
DTSTART;TZID=Europe/Stockholm:20251004T110000
DTEND;TZID=Europe/Stockholm:20251004T140000
DTSTAMP:20260422T201211
CREATED:20250928T223930Z
LAST-MODIFIED:20250928T223930Z
UID:7177-1759575600-1759586400@dovtorget.se
SUMMARY:Turkosfika
DESCRIPTION:
URL:https://dovtorget.se/event/turkosfika-10/
LOCATION:DövTorget\, Sparbanksgatan 6\, Leksand
CATEGORIES:DDF
ATTACH;FMTTYPE=image/png:https://dovtorget.se/wp-content/uploads/2022/07/Turkosfika_1200x628-e1769086832489.png
END:VEVENT
BEGIN:VEVENT
DTSTART;TZID=Europe/Stockholm:20251001T130000
DTEND;TZID=Europe/Stockholm:20251001T130000
DTSTAMP:20260422T201211
CREATED:20250928T223636Z
LAST-MODIFIED:20250928T223804Z
UID:7175-1759323600-1759323600@dovtorget.se
SUMMARY:Mötesplast 65+ Fallprevention
DESCRIPTION:
URL:https://dovtorget.se/event/motesplast-65-fallprevention/
LOCATION:Hagagatan 4\, Hagagatan 4\, Leksand
CATEGORIES:DDP
ATTACH;FMTTYPE=image/png:https://dovtorget.se/wp-content/uploads/2025/09/couple-9321745_640-e1757670101220.png
END:VEVENT
BEGIN:VEVENT
DTSTART;TZID=Europe/Stockholm:20250919T173000
DTEND;TZID=Europe/Stockholm:20250920T170000
DTSTAMP:20260422T201211
CREATED:20250903T210021Z
LAST-MODIFIED:20250903T210021Z
UID:7122-1758303000-1758387600@dovtorget.se
SUMMARY:Föreningskunskap
DESCRIPTION:Lär dig mer om föreningskunskap! \nVi bjuder in till två inspirerande dagar med fokus på föreningskunskap\, där Julia Kankkonen kommer att vara kursledare. \nFredag 19 september – kl:17:30 – 20:00Lördag 20 september – kl: 09:00 – 17:00
URL:https://dovtorget.se/event/foreningskunskap/
LOCATION:DövTorget\, Sparbanksgatan 6\, Leksand
CATEGORIES:DDF
ATTACH;FMTTYPE=image/jpeg:https://dovtorget.se/wp-content/uploads/2022/05/ordfklubba-Jh3b7w.tmp_.jpg
END:VEVENT
BEGIN:VEVENT
DTSTART;TZID=Europe/Stockholm:20250918T113000
DTEND;TZID=Europe/Stockholm:20250918T150000
DTSTAMP:20260422T201211
CREATED:20250905T131211Z
LAST-MODIFIED:20250905T131211Z
UID:7133-1758195000-1758207600@dovtorget.se
SUMMARY:Bokning - VV fhs
DESCRIPTION:
URL:https://dovtorget.se/event/bokning-vv-fhs/
LOCATION:DövTorget\, Sparbanksgatan 6\, Leksand
CATEGORIES:VVfhs
ATTACH;FMTTYPE=image/png:https://dovtorget.se/wp-content/uploads/2022/08/VVfhs_lektion.png
END:VEVENT
BEGIN:VEVENT
DTSTART;TZID=Europe/Stockholm:20250917T120000
DTEND;TZID=Europe/Stockholm:20250917T150000
DTSTAMP:20260422T201211
CREATED:20250912T093856Z
LAST-MODIFIED:20250912T094157Z
UID:7152-1758110400-1758121200@dovtorget.se
SUMMARY:Samkväm för pensionärer
DESCRIPTION:
URL:https://dovtorget.se/event/samkvam-for-pensionarer/
LOCATION:DövTorget\, Sparbanksgatan 6\, Leksand
CATEGORIES:DDP
ATTACH;FMTTYPE=image/png:https://dovtorget.se/wp-content/uploads/2025/09/couple-9321745_640-e1757670101220.png
END:VEVENT
BEGIN:VEVENT
DTSTART;TZID=Europe/Stockholm:20250914T170000
DTEND;TZID=Europe/Stockholm:20250914T200000
DTSTAMP:20260422T201211
CREATED:20250903T211435Z
LAST-MODIFIED:20250903T211435Z
UID:7130-1757869200-1757880000@dovtorget.se
SUMMARY:Dalirs extra årsmöte
DESCRIPTION:
URL:https://dovtorget.se/event/dalirs-extra-arsmote/
LOCATION:DövTorget\, Sparbanksgatan 6\, Leksand
CATEGORIES:Dalir
ATTACH;FMTTYPE=image/jpeg:https://dovtorget.se/wp-content/uploads/2020/02/ordfklubba.jpeg
END:VEVENT
BEGIN:VEVENT
DTSTART;TZID=Europe/Stockholm:20250913T100000
DTEND;TZID=Europe/Stockholm:20250913T150000
DTSTAMP:20260422T201211
CREATED:20250903T211220Z
LAST-MODIFIED:20250903T211220Z
UID:7126-1757757600-1757775600@dovtorget.se
SUMMARY:Dalahästmålning för kvinnor
DESCRIPTION:Kvinnosektionen i DDF anordnar en aktivitet med dalahästmålning i Nusnäs
URL:https://dovtorget.se/event/dalahastmalning-for-kvinnor/
LOCATION:Nusnäs
CATEGORIES:DDF,Kvinno
ATTACH;FMTTYPE=image/jpeg:https://dovtorget.se/wp-content/uploads/2025/09/Dalahast_malning.jpg
END:VEVENT
BEGIN:VEVENT
DTSTART;TZID=Europe/Stockholm:20250906T110000
DTEND;TZID=Europe/Stockholm:20250906T140000
DTSTAMP:20260422T201211
CREATED:20250903T202222Z
LAST-MODIFIED:20250903T202222Z
UID:7117-1757156400-1757167200@dovtorget.se
SUMMARY:Turkosfika
DESCRIPTION:
URL:https://dovtorget.se/event/turkosfika-9/
LOCATION:DövTorget\, Sparbanksgatan 6\, Leksand
CATEGORIES:DDF
ATTACH;FMTTYPE=image/png:https://dovtorget.se/wp-content/uploads/2022/07/Turkosfika_1200x628-e1769086832489.png
END:VEVENT
BEGIN:VEVENT
DTSTART;TZID=Europe/Stockholm:20250823T120000
DTEND;TZID=Europe/Stockholm:20250823T160000
DTSTAMP:20260422T201211
CREATED:20250814T115557Z
LAST-MODIFIED:20250814T115557Z
UID:7096-1755950400-1755964800@dovtorget.se
SUMMARY:Workshop för klubbar/sektioner
DESCRIPTION:
URL:https://dovtorget.se/event/workshop-for-klubbar-sektioner/
LOCATION:DövTorget\, Sparbanksgatan 6\, Leksand
CATEGORIES:DDF
ATTACH;FMTTYPE=image/jpeg:https://dovtorget.se/wp-content/uploads/2025/02/meeting-1015616_1920-1024x1024-1-e1767888330869.jpg
END:VEVENT
BEGIN:VEVENT
DTSTART;TZID=Europe/Stockholm:20250624T180000
DTEND;TZID=Europe/Stockholm:20250624T200000
DTSTAMP:20260422T201211
CREATED:20250607T084144Z
LAST-MODIFIED:20250607T084144Z
UID:6990-1750788000-1750795200@dovtorget.se
SUMMARY:Medlemsmöte för kvinnor
DESCRIPTION:
URL:https://dovtorget.se/event/medlemsmote-for-kvinnor/
LOCATION:DövTorget\, Sparbanksgatan 6\, Leksand
CATEGORIES:Kvinno
ATTACH;FMTTYPE=image/jpeg:https://dovtorget.se/wp-content/uploads/2024/06/women-7808776_1280.jpg
END:VEVENT
BEGIN:VEVENT
DTSTART;TZID=Europe/Stockholm:20250618T093000
DTEND;TZID=Europe/Stockholm:20250618T120000
DTSTAMP:20260422T201211
CREATED:20250607T084752Z
LAST-MODIFIED:20250607T084752Z
UID:7000-1750239000-1750248000@dovtorget.se
SUMMARY:Mötesplats 65+.  Sommaravslutning
DESCRIPTION:
URL:https://dovtorget.se/event/motesplats-65-sommaravslutning/
LOCATION:Hagagatan 4\, Hagagatan 4\, Leksand
CATEGORIES:DDF,DDP
ATTACH;FMTTYPE=image/png:https://dovtorget.se/wp-content/uploads/2025/06/Motesplats65.png
END:VEVENT
BEGIN:VEVENT
DTSTART;TZID=Europe/Stockholm:20250617T120000
DTEND;TZID=Europe/Stockholm:20250617T163000
DTSTAMP:20260422T201211
CREATED:20250607T084311Z
LAST-MODIFIED:20250607T084311Z
UID:6992-1750161600-1750177800@dovtorget.se
SUMMARY:FSDBs styrelsemöte
DESCRIPTION:
URL:https://dovtorget.se/event/fsdbs-styrelsemote-2/
LOCATION:DövTorget\, Sparbanksgatan 6\, Leksand
CATEGORIES:FSDB
ATTACH;FMTTYPE=image/jpeg:https://dovtorget.se/wp-content/uploads/2025/02/meeting-1015616_1920-1024x1024-1-e1767888330869.jpg
END:VEVENT
BEGIN:VEVENT
DTSTART;TZID=Europe/Stockholm:20250616T103000
DTEND;TZID=Europe/Stockholm:20250616T110000
DTSTAMP:20260422T201211
CREATED:20250607T084547Z
LAST-MODIFIED:20250607T084547Z
UID:6996-1750069800-1750071600@dovtorget.se
SUMMARY:Mötesplats 65+.  Träna med Sofia
DESCRIPTION:
URL:https://dovtorget.se/event/motesplats-65-trana-med-sofia-2/
LOCATION:Hagagatan 4\, Hagagatan 4\, Leksand
CATEGORIES:DDF,DDP
ATTACH;FMTTYPE=image/png:https://dovtorget.se/wp-content/uploads/2025/06/Motesplats65.png
END:VEVENT
END:VCALENDAR