BEGIN:VCALENDAR
VERSION:2.0
PRODID:-//Dalarnas D&ouml;vas F&ouml;rening - ECPv6.15.13//NONSGML v1.0//EN
CALSCALE:GREGORIAN
METHOD:PUBLISH
X-WR-CALNAME:Dalarnas D&ouml;vas F&ouml;rening
X-ORIGINAL-URL:https://dovtorget.se
X-WR-CALDESC:Händelser för Dalarnas D&ouml;vas F&ouml;rening
REFRESH-INTERVAL;VALUE=DURATION:PT1H
X-Robots-Tag:noindex
X-PUBLISHED-TTL:PT1H
BEGIN:VTIMEZONE
TZID:Europe/Stockholm
BEGIN:DAYLIGHT
TZOFFSETFROM:+0100
TZOFFSETTO:+0200
TZNAME:CEST
DTSTART:20240331T010000
END:DAYLIGHT
BEGIN:STANDARD
TZOFFSETFROM:+0200
TZOFFSETTO:+0100
TZNAME:CET
DTSTART:20241027T010000
END:STANDARD
BEGIN:DAYLIGHT
TZOFFSETFROM:+0100
TZOFFSETTO:+0200
TZNAME:CEST
DTSTART:20250330T010000
END:DAYLIGHT
BEGIN:STANDARD
TZOFFSETFROM:+0200
TZOFFSETTO:+0100
TZNAME:CET
DTSTART:20251026T010000
END:STANDARD
BEGIN:DAYLIGHT
TZOFFSETFROM:+0100
TZOFFSETTO:+0200
TZNAME:CEST
DTSTART:20260329T010000
END:DAYLIGHT
BEGIN:STANDARD
TZOFFSETFROM:+0200
TZOFFSETTO:+0100
TZNAME:CET
DTSTART:20261025T010000
END:STANDARD
END:VTIMEZONE
BEGIN:VEVENT
DTSTART;TZID=Europe/Stockholm:20250514T130000
DTEND;TZID=Europe/Stockholm:20250514T150000
DTSTAMP:20260423T024213
CREATED:20250607T075933Z
LAST-MODIFIED:20250607T075933Z
UID:6957-1747227600-1747234800@dovtorget.se
SUMMARY:Teckenspråksdag
DESCRIPTION:
URL:https://dovtorget.se/event/teckenspraksdag-2/
LOCATION:DövTorget\, Sparbanksgatan 6\, Leksand
CATEGORIES:DDF
ATTACH;FMTTYPE=image/png:https://dovtorget.se/wp-content/uploads/2025/06/Skarmavbild-2025-06-07-kl.-09.59.02.png
END:VEVENT
BEGIN:VEVENT
DTSTART;TZID=Europe/Stockholm:20250508T180000
DTEND;TZID=Europe/Stockholm:20250508T200000
DTSTAMP:20260423T024213
CREATED:20250607T075040Z
LAST-MODIFIED:20250607T075040Z
UID:6945-1746727200-1746734400@dovtorget.se
SUMMARY:Kongressmotioner - Minskad fattigdom
DESCRIPTION:Motion nr 20 – 28
URL:https://dovtorget.se/event/kongressmotioner-minskad-fattigdom/
LOCATION:DövTorget\, Sparbanksgatan 6\, Leksand
CATEGORIES:DDF
ATTACH;FMTTYPE=image/png:https://dovtorget.se/wp-content/uploads/2025/06/Skarmavbild-2025-06-07-kl.-09.47.08.png
END:VEVENT
BEGIN:VEVENT
DTSTART;TZID=Europe/Stockholm:20250507T120000
DTEND;TZID=Europe/Stockholm:20250507T150000
DTSTAMP:20260423T024213
CREATED:20250607T074407Z
LAST-MODIFIED:20250607T074407Z
UID:6940-1746619200-1746630000@dovtorget.se
SUMMARY:DDPs medlemsmöte
DESCRIPTION:
URL:https://dovtorget.se/event/ddps-medlemsmote-2/
LOCATION:DövTorget\, Sparbanksgatan 6\, Leksand
CATEGORIES:DDP
ATTACH;FMTTYPE=image/jpeg:https://dovtorget.se/wp-content/uploads/2021/06/grandparents-scaled-1.jpg
END:VEVENT
BEGIN:VEVENT
DTSTART;TZID=Europe/Stockholm:20250506T200000
DTEND;TZID=Europe/Stockholm:20250506T200000
DTSTAMP:20260423T024213
CREATED:20250607T074810Z
LAST-MODIFIED:20250607T074810Z
UID:6942-1746561600-1746561600@dovtorget.se
SUMMARY:Kongressmotioner - God hälsa och välbefinnande
DESCRIPTION:Motion nr 12 – 19
URL:https://dovtorget.se/event/kongressmotioner-god-halsa-och-valbefinnande/
LOCATION:DövTorget\, Sparbanksgatan 6\, Leksand
CATEGORIES:DDF
ATTACH;FMTTYPE=image/png:https://dovtorget.se/wp-content/uploads/2025/06/Skarmavbild-2025-06-07-kl.-09.47.08.png
END:VEVENT
BEGIN:VEVENT
DTSTART;TZID=Europe/Stockholm:20250429T180000
DTEND;TZID=Europe/Stockholm:20250429T200000
DTSTAMP:20260423T024213
CREATED:20250607T075440Z
LAST-MODIFIED:20250607T075440Z
UID:6954-1745949600-1745956800@dovtorget.se
SUMMARY:Kongressmotioner - Starkare rätt till teckenspråk
DESCRIPTION:Motion nr 1 – 11
URL:https://dovtorget.se/event/kongressmotioner-starkare-ratt-till-teckensprak/
LOCATION:DövTorget\, Sparbanksgatan 6\, Leksand
CATEGORIES:DDF
ATTACH;FMTTYPE=image/png:https://dovtorget.se/wp-content/uploads/2025/06/Skarmavbild-2025-06-07-kl.-09.47.08.png
END:VEVENT
BEGIN:VEVENT
DTSTART;TZID=Europe/Stockholm:20250426T110000
DTEND;TZID=Europe/Stockholm:20250426T140000
DTSTAMP:20260423T024213
CREATED:20250606T175240Z
LAST-MODIFIED:20250606T175240Z
UID:6937-1745665200-1745676000@dovtorget.se
SUMMARY:Turkosfika
DESCRIPTION:
URL:https://dovtorget.se/event/turkosfika-7/
LOCATION:DövTorget\, Sparbanksgatan 6\, Leksand
CATEGORIES:DDF
ATTACH;FMTTYPE=image/png:https://dovtorget.se/wp-content/uploads/2022/07/Turkosfika_1200x628-e1769086832489.png
END:VEVENT
BEGIN:VEVENT
DTSTART;TZID=Europe/Stockholm:20250423T090000
DTEND;TZID=Europe/Stockholm:20250423T120000
DTSTAMP:20260423T024213
CREATED:20250607T082946Z
LAST-MODIFIED:20250607T082946Z
UID:6976-1745398800-1745409600@dovtorget.se
SUMMARY:Mötesplats 65+.  Handarbetsfika
DESCRIPTION:
URL:https://dovtorget.se/event/motesplats-65-handarbetsfika/
LOCATION:Hagagatan 4\, Hagagatan 4\, Leksand
CATEGORIES:DDF,DDP
ATTACH;FMTTYPE=image/png:https://dovtorget.se/wp-content/uploads/2025/06/Motesplats65.png
END:VEVENT
BEGIN:VEVENT
DTSTART;TZID=Europe/Stockholm:20250422T113000
DTEND;TZID=Europe/Stockholm:20250422T170000
DTSTAMP:20260423T024213
CREATED:20250606T174951Z
LAST-MODIFIED:20250606T174951Z
UID:6935-1745321400-1745341200@dovtorget.se
SUMMARY:FSDB Dalarna styrelsemöte
DESCRIPTION:
URL:https://dovtorget.se/event/fsdb-dalarna-styrelsemote/
LOCATION:DövTorget\, Sparbanksgatan 6\, Leksand
CATEGORIES:FSDB
ATTACH;FMTTYPE=image/jpeg:https://dovtorget.se/wp-content/uploads/2025/02/meeting-1015616_1920-1024x1024-1-e1767888330869.jpg
END:VEVENT
BEGIN:VEVENT
DTSTART;VALUE=DATE:20250419
DTEND;VALUE=DATE:20250421
DTSTAMP:20260423T024213
CREATED:20250227T095104Z
LAST-MODIFIED:20250312T085941Z
UID:6571-1745020800-1745193599@dovtorget.se
SUMMARY:Privat bokning
DESCRIPTION:
URL:https://dovtorget.se/event/privat-bokning/
LOCATION:DövTorget\, Sparbanksgatan 6\, Leksand
ATTACH;FMTTYPE=image/png:https://dovtorget.se/wp-content/uploads/2021/05/dalarna-dovas-logo.png
END:VEVENT
BEGIN:VEVENT
DTSTART;TZID=Europe/Stockholm:20250413T120000
DTEND;TZID=Europe/Stockholm:20250413T150000
DTSTAMP:20260423T024213
CREATED:20250328T160618Z
LAST-MODIFIED:20250328T160618Z
UID:6859-1744545600-1744556400@dovtorget.se
SUMMARY:Dalom årsmöte
DESCRIPTION:
URL:https://dovtorget.se/event/dalom-arsmote/
LOCATION:DövTorget\, Sparbanksgatan 6\, Leksand
CATEGORIES:Dalom
ATTACH;FMTTYPE=image/jpeg:https://dovtorget.se/wp-content/uploads/2022/05/ordfklubba-Jh3b7w.tmp_.jpg
END:VEVENT
BEGIN:VEVENT
DTSTART;TZID=Europe/Stockholm:20250412T120000
DTEND;TZID=Europe/Stockholm:20250412T150000
DTSTAMP:20260423T024213
CREATED:20250227T100443Z
LAST-MODIFIED:20250319T132048Z
UID:6582-1744459200-1744470000@dovtorget.se
SUMMARY:Dalirs årsmöte
DESCRIPTION:
URL:https://dovtorget.se/event/dalirs-arsmote-3/
LOCATION:DövTorget\, Sparbanksgatan 6\, Leksand
CATEGORIES:Dalir
ATTACH;FMTTYPE=image/jpeg:https://dovtorget.se/wp-content/uploads/2025/02/meeting-1015616_1920-1024x1024-1-e1767888330869.jpg
END:VEVENT
BEGIN:VEVENT
DTSTART;TZID=Europe/Stockholm:20250411T180000
DTEND;TZID=Europe/Stockholm:20250411T220000
DTSTAMP:20260423T024213
CREATED:20250319T131927Z
LAST-MODIFIED:20250319T131927Z
UID:6855-1744394400-1744408800@dovtorget.se
SUMMARY:Filmkväll – Jesus – Deaf Mission
DESCRIPTION:
URL:https://dovtorget.se/event/filmkvall-jesus-deaf-mission/
LOCATION:DövTorget\, Sparbanksgatan 6\, Leksand
CATEGORIES:DDF
ATTACH;FMTTYPE=image/jpeg:https://dovtorget.se/wp-content/uploads/2025/03/Jesus.jpeg
END:VEVENT
BEGIN:VEVENT
DTSTART;TZID=Europe/Stockholm:20250411T090000
DTEND;TZID=Europe/Stockholm:20250411T120000
DTSTAMP:20260423T024213
CREATED:20250607T082848Z
LAST-MODIFIED:20250607T082848Z
UID:6974-1744362000-1744372800@dovtorget.se
SUMMARY:Mötesplats 65+. Fröbytarfika
DESCRIPTION:
URL:https://dovtorget.se/event/motesplats-65-frobytarfika/
LOCATION:Hagagatan 4\, Hagagatan 4\, Leksand
CATEGORIES:DDF,DDP
ATTACH;FMTTYPE=image/png:https://dovtorget.se/wp-content/uploads/2025/06/Motesplats65.png
END:VEVENT
BEGIN:VEVENT
DTSTART;TZID=Europe/Stockholm:20250410T103000
DTEND;TZID=Europe/Stockholm:20250410T150000
DTSTAMP:20260423T024213
CREATED:20250607T082728Z
LAST-MODIFIED:20250607T082728Z
UID:6972-1744281000-1744297200@dovtorget.se
SUMMARY:Mötesplats 65+.  Biståndshandläggare informerar
DESCRIPTION:
URL:https://dovtorget.se/event/motesplats-65-bistandshandlaggare-informerar/
LOCATION:Hagagatan 4\, Hagagatan 4\, Leksand
CATEGORIES:DDF,DDP
ATTACH;FMTTYPE=image/png:https://dovtorget.se/wp-content/uploads/2025/06/Motesplats65.png
END:VEVENT
BEGIN:VEVENT
DTSTART;TZID=Europe/Stockholm:20250408T180000
DTEND;TZID=Europe/Stockholm:20250408T200000
DTSTAMP:20260423T024213
CREATED:20250607T083154Z
LAST-MODIFIED:20250607T083154Z
UID:6978-1744135200-1744142400@dovtorget.se
SUMMARY:SDRs valberedning informerar
DESCRIPTION:
URL:https://dovtorget.se/event/sdrs-valberedning-informerar/
LOCATION:DövTorget\, Sparbanksgatan 6\, Leksand
CATEGORIES:DDF
ATTACH;FMTTYPE=image/png:https://dovtorget.se/wp-content/uploads/2025/06/Skarmavbild-2025-06-07-kl.-09.47.08.png
END:VEVENT
BEGIN:VEVENT
DTSTART;TZID=Europe/Stockholm:20250405T110000
DTEND;TZID=Europe/Stockholm:20250405T150000
DTSTAMP:20260423T024213
CREATED:20250607T083408Z
LAST-MODIFIED:20250607T083408Z
UID:6980-1743850800-1743865200@dovtorget.se
SUMMARY:Turkosfika
DESCRIPTION:
URL:https://dovtorget.se/event/turkosfika-8/
LOCATION:DövTorget\, Sparbanksgatan 6\, Leksand
CATEGORIES:DDF
ATTACH;FMTTYPE=image/png:https://dovtorget.se/wp-content/uploads/2022/07/Turkosfika_1200x628-e1769086832489.png
END:VEVENT
BEGIN:VEVENT
DTSTART;TZID=Europe/Stockholm:20250403T133000
DTEND;TZID=Europe/Stockholm:20250403T150000
DTSTAMP:20260423T024213
CREATED:20250607T082611Z
LAST-MODIFIED:20250607T082611Z
UID:6970-1743687000-1743692400@dovtorget.se
SUMMARY:Mötesplats 65+.  Hemtjänsten informerar
DESCRIPTION:
URL:https://dovtorget.se/event/motesplats-65-hemtjansten-informerar/
LOCATION:Hagagatan 4\, Hagagatan 4\, Leksand
CATEGORIES:DDF,DDP
ATTACH;FMTTYPE=image/png:https://dovtorget.se/wp-content/uploads/2025/06/Motesplats65.png
END:VEVENT
BEGIN:VEVENT
DTSTART;TZID=Europe/Stockholm:20250402T180000
DTEND;TZID=Europe/Stockholm:20250402T200000
DTSTAMP:20260423T024213
CREATED:20250607T083507Z
LAST-MODIFIED:20250607T083507Z
UID:6982-1743616800-1743624000@dovtorget.se
SUMMARY:SDRs nya logo
DESCRIPTION:
URL:https://dovtorget.se/event/sdrs-nya-logo/
LOCATION:DövTorget\, Sparbanksgatan 6\, Leksand
CATEGORIES:DDF
ATTACH;FMTTYPE=image/png:https://dovtorget.se/wp-content/uploads/2025/06/Skarmavbild-2025-06-07-kl.-09.47.08.png
END:VEVENT
BEGIN:VEVENT
DTSTART;TZID=Europe/Stockholm:20250331T100000
DTEND;TZID=Europe/Stockholm:20250331T120000
DTSTAMP:20260423T024213
CREATED:20250607T082041Z
LAST-MODIFIED:20250607T082444Z
UID:6966-1743415200-1743422400@dovtorget.se
SUMMARY:Mötesplats 65+.   Stolsgympa
DESCRIPTION:
URL:https://dovtorget.se/event/motesplats-65-stolsgympa/
LOCATION:Hagagatan 4\, Hagagatan 4\, Leksand
CATEGORIES:DDF,DDP
ATTACH;FMTTYPE=image/png:https://dovtorget.se/wp-content/uploads/2025/06/Motesplats65.png
END:VEVENT
BEGIN:VEVENT
DTSTART;TZID=Europe/Stockholm:20250329T100000
DTEND;TZID=Europe/Stockholm:20250329T180000
DTSTAMP:20260423T024213
CREATED:20250115T212017Z
LAST-MODIFIED:20250313T133258Z
UID:5311-1743242400-1743271200@dovtorget.se
SUMMARY:FSDBs årsmöte
DESCRIPTION:hej
URL:https://dovtorget.se/event/fsdbs-arsmote/
LOCATION:DövTorget\, Sparbanksgatan 6\, Leksand
CATEGORIES:FSDB
ATTACH;FMTTYPE=image/jpeg:https://dovtorget.se/wp-content/uploads/2022/11/meeting-1015616_1920.jpg
END:VEVENT
BEGIN:VEVENT
DTSTART;TZID=Europe/Stockholm:20250324T173000
DTEND;TZID=Europe/Stockholm:20250324T210000
DTSTAMP:20260423T024213
CREATED:20250319T131506Z
LAST-MODIFIED:20250319T131506Z
UID:6852-1742837400-1742850000@dovtorget.se
SUMMARY:Skyddad boende – föreläsning
DESCRIPTION:
URL:https://dovtorget.se/event/skyddad-boende-forelasning/
LOCATION:DövTorget\, Sparbanksgatan 6\, Leksand
CATEGORIES:DDF
ATTACH;FMTTYPE=image/png:https://dovtorget.se/wp-content/uploads/2025/03/woman-8700275_1280.png
END:VEVENT
BEGIN:VEVENT
DTSTART;TZID=Europe/Stockholm:20250319T120000
DTEND;TZID=Europe/Stockholm:20250319T160000
DTSTAMP:20260423T024213
CREATED:20250319T131132Z
LAST-MODIFIED:20250319T131153Z
UID:6850-1742385600-1742400000@dovtorget.se
SUMMARY:DDPs samkväm 19 mars
DESCRIPTION:
URL:https://dovtorget.se/event/ddps-samkvam-19-mars/
LOCATION:DövTorget\, Sparbanksgatan 6\, Leksand
CATEGORIES:DDP
ATTACH;FMTTYPE=image/jpeg:https://dovtorget.se/wp-content/uploads/2022/05/meeting-1002800_1920-e1657383216219.jpg
END:VEVENT
BEGIN:VEVENT
DTSTART;TZID=Europe/Stockholm:20250315T110000
DTEND;TZID=Europe/Stockholm:20250315T160000
DTSTAMP:20260423T024213
CREATED:20241117T185632Z
LAST-MODIFIED:20241117T185632Z
UID:5246-1742036400-1742054400@dovtorget.se
SUMMARY:DDFs årsmöte
DESCRIPTION:
URL:https://dovtorget.se/event/ddfs-arsmote-3/
CATEGORIES:DDF
ATTACH;FMTTYPE=image/jpeg:https://dovtorget.se/wp-content/uploads/2022/05/ordfklubba-Jh3b7w.tmp_.jpg
END:VEVENT
BEGIN:VEVENT
DTSTART;TZID=Europe/Stockholm:20250308T150000
DTEND;TZID=Europe/Stockholm:20250308T210000
DTSTAMP:20260423T024213
CREATED:20250227T095649Z
LAST-MODIFIED:20250227T095649Z
UID:6576-1741446000-1741467600@dovtorget.se
SUMMARY:Internationella kvinnodag
DESCRIPTION:
URL:https://dovtorget.se/event/internationella-kvinnodag-4/
LOCATION:DövTorget\, Sparbanksgatan 6\, Leksand
CATEGORIES:Kvinno
ATTACH;FMTTYPE=image/jpeg:https://dovtorget.se/wp-content/uploads/2025/02/world-g6d10c932a_1920-1024x683-1.jpg
END:VEVENT
BEGIN:VEVENT
DTSTART;TZID=Europe/Stockholm:20250301T110000
DTEND;TZID=Europe/Stockholm:20250301T170000
DTSTAMP:20260423T024213
CREATED:20241117T185424Z
LAST-MODIFIED:20241117T185424Z
UID:5244-1740826800-1740848400@dovtorget.se
SUMMARY:DDFSKs årsmöte
DESCRIPTION:
URL:https://dovtorget.se/event/ddfsks-arsmote/
LOCATION:DövTorget\, Sparbanksgatan 6\, Leksand
CATEGORIES:Fiske
ATTACH;FMTTYPE=image/jpeg:https://dovtorget.se/wp-content/uploads/2020/02/ordfklubba.jpeg
END:VEVENT
BEGIN:VEVENT
DTSTART;TZID=Europe/Stockholm:20250225T173000
DTEND;TZID=Europe/Stockholm:20250225T200000
DTSTAMP:20260423T024213
CREATED:20250227T095402Z
LAST-MODIFIED:20250227T095402Z
UID:6574-1740504600-1740513600@dovtorget.se
SUMMARY:Digital föreläsning med NKJT
DESCRIPTION:
URL:https://dovtorget.se/event/digital-forelasning-med-nkjt/
LOCATION:DövTorget\, Sparbanksgatan 6\, Leksand
CATEGORIES:Kvinno
ATTACH;FMTTYPE=image/jpeg:https://dovtorget.se/wp-content/uploads/2024/06/women-7808776_1280.jpg
END:VEVENT
BEGIN:VEVENT
DTSTART;TZID=Europe/Stockholm:20250211T170000
DTEND;TZID=Europe/Stockholm:20250211T220000
DTSTAMP:20260423T024213
CREATED:20250227T100141Z
LAST-MODIFIED:20250227T100141Z
UID:6579-1739293200-1739311200@dovtorget.se
SUMMARY:Bridgetävling – Svenska Cup
DESCRIPTION:
URL:https://dovtorget.se/event/bridgetavling-svenska-cup/
LOCATION:DövTorget\, Sparbanksgatan 6\, Leksand
CATEGORIES:Dalom
ATTACH;FMTTYPE=image/jpeg:https://dovtorget.se/wp-content/uploads/2025/02/ornament-1222654_1920-1024x683-1.jpeg
END:VEVENT
BEGIN:VEVENT
DTSTART;VALUE=DATE:20250207
DTEND;VALUE=DATE:20250210
DTSTAMP:20260423T024213
CREATED:20241118T092722Z
LAST-MODIFIED:20241118T092722Z
UID:5248-1738886400-1739145599@dovtorget.se
SUMMARY:Släktforskning
DESCRIPTION:Ta kontakt med styrelsen om du vill veta mer om släktforskningen.
URL:https://dovtorget.se/event/slaktforskning/
LOCATION:DövTorget\, Sparbanksgatan 6\, Leksand
CATEGORIES:DDF
ATTACH;FMTTYPE=image/jpeg:https://dovtorget.se/wp-content/uploads/2024/11/slaktforskning_tree.jpg
END:VEVENT
BEGIN:VEVENT
DTSTART;TZID=Europe/Stockholm:20250114T180000
DTEND;TZID=Europe/Stockholm:20250114T200000
DTSTAMP:20260423T024213
CREATED:20241230T113010Z
LAST-MODIFIED:20241230T113010Z
UID:5295-1736877600-1736884800@dovtorget.se
SUMMARY:Kvinnosektionens medlemsöte
DESCRIPTION:
URL:https://dovtorget.se/event/kvinnosektionens-medlemsote/
LOCATION:DövTorget\, Sparbanksgatan 6\, Leksand
CATEGORIES:Kvinno
END:VEVENT
BEGIN:VEVENT
DTSTART;VALUE=DATE:20250110
DTEND;VALUE=DATE:20250113
DTSTAMP:20260423T024213
CREATED:20241230T112813Z
LAST-MODIFIED:20241230T112813Z
UID:5293-1736467200-1736726399@dovtorget.se
SUMMARY:Bridgekurs
DESCRIPTION:
URL:https://dovtorget.se/event/bridgekurs/
LOCATION:DövTorget\, Sparbanksgatan 6\, Leksand
CATEGORIES:Dalom
ATTACH;FMTTYPE=image/jpeg:https://dovtorget.se/wp-content/uploads/2023/02/Bridge-scaled.jpeg
END:VEVENT
END:VCALENDAR