BEGIN:VCALENDAR
VERSION:2.0
PRODID:-//Dalarnas D&ouml;vas F&ouml;rening - ECPv6.15.13//NONSGML v1.0//EN
CALSCALE:GREGORIAN
METHOD:PUBLISH
X-WR-CALNAME:Dalarnas D&ouml;vas F&ouml;rening
X-ORIGINAL-URL:https://dovtorget.se
X-WR-CALDESC:Händelser för Dalarnas D&ouml;vas F&ouml;rening
REFRESH-INTERVAL;VALUE=DURATION:PT1H
X-Robots-Tag:noindex
X-PUBLISHED-TTL:PT1H
BEGIN:VTIMEZONE
TZID:Europe/Stockholm
BEGIN:DAYLIGHT
TZOFFSETFROM:+0100
TZOFFSETTO:+0200
TZNAME:CEST
DTSTART:20250330T010000
END:DAYLIGHT
BEGIN:STANDARD
TZOFFSETFROM:+0200
TZOFFSETTO:+0100
TZNAME:CET
DTSTART:20251026T010000
END:STANDARD
BEGIN:DAYLIGHT
TZOFFSETFROM:+0100
TZOFFSETTO:+0200
TZNAME:CEST
DTSTART:20260329T010000
END:DAYLIGHT
BEGIN:STANDARD
TZOFFSETFROM:+0200
TZOFFSETTO:+0100
TZNAME:CET
DTSTART:20261025T010000
END:STANDARD
BEGIN:DAYLIGHT
TZOFFSETFROM:+0100
TZOFFSETTO:+0200
TZNAME:CEST
DTSTART:20270328T010000
END:DAYLIGHT
BEGIN:STANDARD
TZOFFSETFROM:+0200
TZOFFSETTO:+0100
TZNAME:CET
DTSTART:20271031T010000
END:STANDARD
END:VTIMEZONE
BEGIN:VEVENT
DTSTART;TZID=Europe/Stockholm:20260204T180000
DTEND;TZID=Europe/Stockholm:20260204T200000
DTSTAMP:20260419T215941
CREATED:20260126T110816Z
LAST-MODIFIED:20260127T080701Z
UID:7416-1770228000-1770235200@dovtorget.se
SUMMARY:Medlemsmöte: Sveriges Dövas Riksförbunds framtida namn
DESCRIPTION:
URL:https://dovtorget.se/event/medlemsmote-sdrs-forslag-om-namnbyte/
LOCATION:DövTorget\, Sparbanksgatan 6\, Leksand
CATEGORIES:DDF
ATTACH;FMTTYPE=image/png:https://dovtorget.se/wp-content/uploads/2026/01/Gemini_Generated_Image_w7vfz7w7vfz7w7vf-e1767887765891.png
END:VEVENT
BEGIN:VEVENT
DTSTART;TZID=Europe/Stockholm:20260205T120000
DTEND;TZID=Europe/Stockholm:20260205T150000
DTSTAMP:20260419T215941
CREATED:20260202T170841Z
LAST-MODIFIED:20260202T170841Z
UID:7424-1770292800-1770303600@dovtorget.se
SUMMARY:DDPs samkväm
DESCRIPTION:
URL:https://dovtorget.se/event/ddps-samkvam/
LOCATION:DövTorget\, Sparbanksgatan 6\, Leksand
CATEGORIES:DDP
ATTACH;FMTTYPE=image/png:https://dovtorget.se/wp-content/uploads/2025/09/couple-9321745_640-e1757670101220.png
END:VEVENT
BEGIN:VEVENT
DTSTART;VALUE=DATE:20260207
DTEND;VALUE=DATE:20260208
DTSTAMP:20260419T215941
CREATED:20251110T084705Z
LAST-MODIFIED:20260123T092132Z
UID:7246-1770422400-1770508799@dovtorget.se
SUMMARY:SDR mellersta
DESCRIPTION:
URL:https://dovtorget.se/event/sdr-mellersta/
LOCATION:DövTorget\, Sparbanksgatan 6\, Leksand
CATEGORIES:DDF
ATTACH;FMTTYPE=image/jpeg:https://dovtorget.se/wp-content/uploads/2025/02/meeting-1015616_1920-1024x1024-1-e1767888330869.jpg
END:VEVENT
BEGIN:VEVENT
DTSTART;TZID=Europe/Stockholm:20260208T130000
DTEND;TZID=Europe/Stockholm:20260208T150000
DTSTAMP:20260419T215941
CREATED:20260108T155928Z
LAST-MODIFIED:20260108T170811Z
UID:7354-1770555600-1770562800@dovtorget.se
SUMMARY:Sektionsledare träff
DESCRIPTION:
URL:https://dovtorget.se/event/sektionsledare-traff/
LOCATION:DövTorget\, Sparbanksgatan 6\, Leksand
CATEGORIES:Dalir
ATTACH;FMTTYPE=image/jpeg:https://dovtorget.se/wp-content/uploads/2025/02/meeting-1015616_1920-1024x1024-1-e1767888330869.jpg
END:VEVENT
BEGIN:VEVENT
DTSTART;TZID=Europe/Stockholm:20260208T150000
DTEND;TZID=Europe/Stockholm:20260208T180000
DTSTAMP:20260419T215941
CREATED:20260108T160106Z
LAST-MODIFIED:20260108T163613Z
UID:7356-1770562800-1770573600@dovtorget.se
SUMMARY:Dalirs styrelsemöte
DESCRIPTION:
URL:https://dovtorget.se/event/dalirs-styrelsemote/
LOCATION:DövTorget\, Sparbanksgatan 6\, Leksand
CATEGORIES:Dalir
ATTACH;FMTTYPE=image/png:https://dovtorget.se/wp-content/uploads/2019/04/DALIR-LOGO-150-DPI-e1767890061750.png
END:VEVENT
BEGIN:VEVENT
DTSTART;TZID=Europe/Stockholm:20260211T180000
DTEND;TZID=Europe/Stockholm:20260211T200000
DTSTAMP:20260419T215941
CREATED:20260123T091559Z
LAST-MODIFIED:20260126T110940Z
UID:7409-1770832800-1770840000@dovtorget.se
SUMMARY:Medlemsmöte om DDF:s värdegrund
DESCRIPTION:
URL:https://dovtorget.se/event/medlemsmote-om-ddfs-vardegrund/
LOCATION:DövTorget\, Sparbanksgatan 6\, Leksand
CATEGORIES:DDF
ATTACH;FMTTYPE=image/png:https://dovtorget.se/wp-content/uploads/2026/01/Gemini_Generated_Image_w7vfz7w7vfz7w7vf-e1767887765891.png
END:VEVENT
BEGIN:VEVENT
DTSTART;TZID=Europe/Stockholm:20260214T110000
DTEND;TZID=Europe/Stockholm:20260214T140000
DTSTAMP:20260419T215941
CREATED:20260122T125005Z
LAST-MODIFIED:20260122T132058Z
UID:7393-1771066800-1771077600@dovtorget.se
SUMMARY:Turkosfika
DESCRIPTION:
URL:https://dovtorget.se/event/turkosfika-12/
LOCATION:DövTorget\, Sparbanksgatan 6\, Leksand
CATEGORIES:DDF
ATTACH;FMTTYPE=image/png:https://dovtorget.se/wp-content/uploads/2026/01/Turkosfika_ny.png
END:VEVENT
BEGIN:VEVENT
DTSTART;TZID=Europe/Stockholm:20260215T140000
DTEND;TZID=Europe/Stockholm:20260215T170000
DTSTAMP:20260419T215941
CREATED:20260123T084935Z
LAST-MODIFIED:20260123T085721Z
UID:7401-1771164000-1771174800@dovtorget.se
SUMMARY:Mellan himmel & jord - samkväm för kvinnor
DESCRIPTION:
URL:https://dovtorget.se/event/mellan-himmel-jord/
LOCATION:DövTorget\, Sparbanksgatan 6\, Leksand
CATEGORIES:Kvinno
END:VEVENT
BEGIN:VEVENT
DTSTART;VALUE=DATE:20260220
DTEND;VALUE=DATE:20260223
DTSTAMP:20260419T215941
CREATED:20251030T190921Z
LAST-MODIFIED:20251030T192022Z
UID:7237-1771545600-1771804799@dovtorget.se
SUMMARY:Bridgekurs - Dalom
DESCRIPTION:
URL:https://dovtorget.se/event/bridgekurs-dalom/
LOCATION:DövTorget\, Sparbanksgatan 6\, Leksand
CATEGORIES:Dalom
ATTACH;FMTTYPE=image/jpeg:https://dovtorget.se/wp-content/uploads/2025/10/card-game-1834640_1280.jpg
END:VEVENT
BEGIN:VEVENT
DTSTART;TZID=Europe/Stockholm:20260222T140000
DTEND;TZID=Europe/Stockholm:20260222T180000
DTSTAMP:20260419T215941
CREATED:20260203T073759Z
LAST-MODIFIED:20260203T073906Z
UID:7426-1771768800-1771783200@dovtorget.se
SUMMARY:BK Dalom
DESCRIPTION:
URL:https://dovtorget.se/event/bk-dalom/
LOCATION:DövTorget\, Sparbanksgatan 6\, Leksand
CATEGORIES:Dalom
ATTACH;FMTTYPE=image/jpeg:https://dovtorget.se/wp-content/uploads/2025/10/card-game-1834640_1280.jpg
END:VEVENT
BEGIN:VEVENT
DTSTART;TZID=Europe/Stockholm:20260225T120000
DTEND;TZID=Europe/Stockholm:20260225T160000
DTSTAMP:20260419T215941
CREATED:20260111T152246Z
LAST-MODIFIED:20260111T153111Z
UID:7369-1772020800-1772035200@dovtorget.se
SUMMARY:DDPs årsmöte
DESCRIPTION:
URL:https://dovtorget.se/event/ddps-arsmote-25-februari/
LOCATION:DövTorget\, Sparbanksgatan 6\, Leksand
CATEGORIES:DDP
ATTACH;FMTTYPE=image/jpeg:https://dovtorget.se/wp-content/uploads/2022/05/ordfklubba-Jh3b7w.tmp_.jpg
END:VEVENT
BEGIN:VEVENT
DTSTART;TZID=Europe/Stockholm:20260228T110000
DTEND;TZID=Europe/Stockholm:20260228T140000
DTSTAMP:20260419T215941
CREATED:20260122T125118Z
LAST-MODIFIED:20260122T132004Z
UID:7395-1772276400-1772287200@dovtorget.se
SUMMARY:Turkosfika
DESCRIPTION:
URL:https://dovtorget.se/event/turkosfika-13/
LOCATION:DövTorget\, Sparbanksgatan 6\, Leksand
CATEGORIES:DDF
ATTACH;FMTTYPE=image/png:https://dovtorget.se/wp-content/uploads/2026/01/Turkosfika_ny.png
END:VEVENT
BEGIN:VEVENT
DTSTART;TZID=Europe/Stockholm:20260228T120000
DTEND;TZID=Europe/Stockholm:20260228T200000
DTSTAMP:20260419T215941
CREATED:20251201T085321Z
LAST-MODIFIED:20251201T085321Z
UID:7316-1772280000-1772308800@dovtorget.se
SUMMARY:DDSFK årsmöte
DESCRIPTION:
URL:https://dovtorget.se/event/ddsfk-arsmote/
CATEGORIES:Fiske
ATTACH;FMTTYPE=image/png:https://dovtorget.se/wp-content/uploads/2024/04/DDSFK-trans-logo.png
END:VEVENT
END:VCALENDAR