BEGIN:VCALENDAR
VERSION:2.0
PRODID:-//Dalarnas D&ouml;vas F&ouml;rening - ECPv6.15.13//NONSGML v1.0//EN
CALSCALE:GREGORIAN
METHOD:PUBLISH
X-WR-CALNAME:Dalarnas D&ouml;vas F&ouml;rening
X-ORIGINAL-URL:https://dovtorget.se
X-WR-CALDESC:Händelser för Dalarnas D&ouml;vas F&ouml;rening
REFRESH-INTERVAL;VALUE=DURATION:PT1H
X-Robots-Tag:noindex
X-PUBLISHED-TTL:PT1H
BEGIN:VTIMEZONE
TZID:Europe/Stockholm
BEGIN:DAYLIGHT
TZOFFSETFROM:+0100
TZOFFSETTO:+0200
TZNAME:CEST
DTSTART:20250330T010000
END:DAYLIGHT
BEGIN:STANDARD
TZOFFSETFROM:+0200
TZOFFSETTO:+0100
TZNAME:CET
DTSTART:20251026T010000
END:STANDARD
BEGIN:DAYLIGHT
TZOFFSETFROM:+0100
TZOFFSETTO:+0200
TZNAME:CEST
DTSTART:20260329T010000
END:DAYLIGHT
BEGIN:STANDARD
TZOFFSETFROM:+0200
TZOFFSETTO:+0100
TZNAME:CET
DTSTART:20261025T010000
END:STANDARD
BEGIN:DAYLIGHT
TZOFFSETFROM:+0100
TZOFFSETTO:+0200
TZNAME:CEST
DTSTART:20270328T010000
END:DAYLIGHT
BEGIN:STANDARD
TZOFFSETFROM:+0200
TZOFFSETTO:+0100
TZNAME:CET
DTSTART:20271031T010000
END:STANDARD
END:VTIMEZONE
BEGIN:VEVENT
DTSTART;TZID=Europe/Stockholm:20260301T120000
DTEND;TZID=Europe/Stockholm:20260301T160000
DTSTAMP:20260419T202803
CREATED:20260108T160236Z
LAST-MODIFIED:20260108T160236Z
UID:7358-1772366400-1772380800@dovtorget.se
SUMMARY:Dalirs årsmöte
DESCRIPTION:
URL:https://dovtorget.se/event/dalirs-arsmote-4/
LOCATION:DövTorget\, Sparbanksgatan 6\, Leksand
CATEGORIES:Dalir
ATTACH;FMTTYPE=image/jpeg:https://dovtorget.se/wp-content/uploads/2022/05/ordfklubba-Jh3b7w.tmp_.jpg
END:VEVENT
BEGIN:VEVENT
DTSTART;TZID=Europe/Stockholm:20260308T140000
DTEND;TZID=Europe/Stockholm:20260308T170000
DTSTAMP:20260419T202803
CREATED:20260302T094718Z
LAST-MODIFIED:20260302T094718Z
UID:7460-1772978400-1772989200@dovtorget.se
SUMMARY:Internationella kvinnodagen
DESCRIPTION:
URL:https://dovtorget.se/event/internationella-kvinnodagen/
LOCATION:DövTorget\, Sparbanksgatan 6\, Leksand
CATEGORIES:Kvinno
END:VEVENT
BEGIN:VEVENT
DTSTART;TZID=Europe/Stockholm:20260311T120000
DTEND;TZID=Europe/Stockholm:20260311T170000
DTSTAMP:20260419T202803
CREATED:20260302T103341Z
LAST-MODIFIED:20260302T103446Z
UID:7477-1773230400-1773248400@dovtorget.se
SUMMARY:DDP:s samkväm och Digital Senior
DESCRIPTION:
URL:https://dovtorget.se/event/ddps-samkvam-2/
LOCATION:DövTorget\, Sparbanksgatan 6\, Leksand
CATEGORIES:DDP
END:VEVENT
BEGIN:VEVENT
DTSTART;TZID=Europe/Stockholm:20260311T150000
DTEND;TZID=Europe/Stockholm:20260311T200000
DTSTAMP:20260419T202803
CREATED:20260306T071338Z
LAST-MODIFIED:20260306T071338Z
UID:7503-1773241200-1773259200@dovtorget.se
SUMMARY:Dövfilmfestival
DESCRIPTION:
URL:https://dovtorget.se/event/dovfilmfestival/
LOCATION:DövTorget\, Sparbanksgatan 6\, Leksand
CATEGORIES:DDF
END:VEVENT
BEGIN:VEVENT
DTSTART;VALUE=DATE:20260314
DTEND;VALUE=DATE:20260315
DTSTAMP:20260419T202803
CREATED:20260302T094929Z
LAST-MODIFIED:20260302T100617Z
UID:7464-1773446400-1773532799@dovtorget.se
SUMMARY:Dövas kvinnoförening i Stockholm 130 år
DESCRIPTION:
URL:https://dovtorget.se/event/dovas-kvinnoforening-i-stockholm-130-ar/
LOCATION:Stockholm
CATEGORIES:Kvinno
END:VEVENT
BEGIN:VEVENT
DTSTART;TZID=Europe/Stockholm:20260314T110000
DTEND;TZID=Europe/Stockholm:20260314T140000
DTSTAMP:20260419T202803
CREATED:20260312T130428Z
LAST-MODIFIED:20260312T163132Z
UID:7521-1773486000-1773496800@dovtorget.se
SUMMARY:Turkosfika
DESCRIPTION:
URL:https://dovtorget.se/event/turkosfika-14/
LOCATION:DövTorget\, Sparbanksgatan 6\, Leksand
CATEGORIES:DDF
ATTACH;FMTTYPE=image/png:https://dovtorget.se/wp-content/uploads/2026/01/Turkosfika_ny.png
END:VEVENT
BEGIN:VEVENT
DTSTART;TZID=Europe/Stockholm:20260314T134500
DTEND;TZID=Europe/Stockholm:20260314T160000
DTSTAMP:20260419T202803
CREATED:20260302T094827Z
LAST-MODIFIED:20260302T100539Z
UID:7462-1773495900-1773504000@dovtorget.se
SUMMARY:Yoump i Borlänge
DESCRIPTION:
URL:https://dovtorget.se/event/yoump-i-borlange/
LOCATION:Borlänge
CATEGORIES:Familj
END:VEVENT
BEGIN:VEVENT
DTSTART;TZID=Europe/Stockholm:20260318T090000
DTEND;TZID=Europe/Stockholm:20260318T120000
DTSTAMP:20260419T202803
CREATED:20260306T071542Z
LAST-MODIFIED:20260312T131340Z
UID:7505-1773824400-1773835200@dovtorget.se
SUMMARY:Mötesplats 65 + Palliativ vård
DESCRIPTION:
URL:https://dovtorget.se/event/motesplats-65-4/
LOCATION:Leksand
ATTACH;FMTTYPE=image/png:https://dovtorget.se/wp-content/uploads/2026/01/Gemini_Generated_Image_u4j9ydu4j9ydu4j9.png
END:VEVENT
BEGIN:VEVENT
DTSTART;VALUE=DATE:20260319
DTEND;VALUE=DATE:20260320
DTSTAMP:20260419T202803
CREATED:20260302T095737Z
LAST-MODIFIED:20260302T100514Z
UID:7470-1773878400-1773964799@dovtorget.se
SUMMARY:DDP:s 60 års jubileum på Korstäppans herregård
DESCRIPTION:
URL:https://dovtorget.se/event/ddps-60-ars-jubileum-pa-korstappans-herregard/
LOCATION:Leksand
CATEGORIES:DDP
END:VEVENT
BEGIN:VEVENT
DTSTART;TZID=Europe/Stockholm:20260320T090000
DTEND;TZID=Europe/Stockholm:20260320T120000
DTSTAMP:20260419T202803
CREATED:20260306T071857Z
LAST-MODIFIED:20260312T131253Z
UID:7509-1773997200-1774008000@dovtorget.se
SUMMARY:Mötesplats 65 + Brottsofferjouren och Rättighetscentrum
DESCRIPTION:
URL:https://dovtorget.se/event/motesplats-65-brottsofferjouren-och-rattighetscentrum/
LOCATION:Leksand
ATTACH;FMTTYPE=image/png:https://dovtorget.se/wp-content/uploads/2026/01/Gemini_Generated_Image_u4j9ydu4j9ydu4j9.png
END:VEVENT
BEGIN:VEVENT
DTSTART;TZID=Europe/Stockholm:20260321T105000
DTEND;TZID=Europe/Stockholm:20260321T160000
DTSTAMP:20260419T202803
CREATED:20260302T095400Z
LAST-MODIFIED:20260312T130633Z
UID:7468-1774090200-1774108800@dovtorget.se
SUMMARY:DDF:s årsmöte på Västanviks folkhögskola
DESCRIPTION:
URL:https://dovtorget.se/event/ddfs-arsmote-pa-vastanviks-folkhogskola/
LOCATION:Leksand
CATEGORIES:DDF
ATTACH;FMTTYPE=image/png:https://dovtorget.se/wp-content/uploads/2026/02/Arsmote-21-mars.png
END:VEVENT
BEGIN:VEVENT
DTSTART;TZID=Europe/Stockholm:20260328T110000
DTEND;TZID=Europe/Stockholm:20260328T140000
DTSTAMP:20260419T202803
CREATED:20260312T130545Z
LAST-MODIFIED:20260312T130545Z
UID:7523-1774695600-1774706400@dovtorget.se
SUMMARY:Turkosfika
DESCRIPTION:
URL:https://dovtorget.se/event/turkosfika-15/
LOCATION:DövTorget\, Sparbanksgatan 6\, Leksand
CATEGORIES:DDF
ATTACH;FMTTYPE=image/png:https://dovtorget.se/wp-content/uploads/2026/01/Turkosfika_ny.png
END:VEVENT
END:VCALENDAR