BEGIN:VCALENDAR
VERSION:2.0
PRODID:-//Dalarnas D&ouml;vas F&ouml;rening - ECPv6.15.13//NONSGML v1.0//EN
CALSCALE:GREGORIAN
METHOD:PUBLISH
X-ORIGINAL-URL:https://dovtorget.se
X-WR-CALDESC:Händelser för Dalarnas D&ouml;vas F&ouml;rening
REFRESH-INTERVAL;VALUE=DURATION:PT1H
X-Robots-Tag:noindex
X-PUBLISHED-TTL:PT1H
BEGIN:VTIMEZONE
TZID:Europe/Stockholm
BEGIN:DAYLIGHT
TZOFFSETFROM:+0100
TZOFFSETTO:+0200
TZNAME:CEST
DTSTART:20230326T010000
END:DAYLIGHT
BEGIN:STANDARD
TZOFFSETFROM:+0200
TZOFFSETTO:+0100
TZNAME:CET
DTSTART:20231029T010000
END:STANDARD
BEGIN:DAYLIGHT
TZOFFSETFROM:+0100
TZOFFSETTO:+0200
TZNAME:CEST
DTSTART:20240331T010000
END:DAYLIGHT
BEGIN:STANDARD
TZOFFSETFROM:+0200
TZOFFSETTO:+0100
TZNAME:CET
DTSTART:20241027T010000
END:STANDARD
BEGIN:DAYLIGHT
TZOFFSETFROM:+0100
TZOFFSETTO:+0200
TZNAME:CEST
DTSTART:20250330T010000
END:DAYLIGHT
BEGIN:STANDARD
TZOFFSETFROM:+0200
TZOFFSETTO:+0100
TZNAME:CET
DTSTART:20251026T010000
END:STANDARD
END:VTIMEZONE
BEGIN:VEVENT
DTSTART;VALUE=DATE:20240907
DTEND;VALUE=DATE:20240908
DTSTAMP:20260419T174904
CREATED:20240819T103309Z
LAST-MODIFIED:20240819T103643Z
UID:4975-1725667200-1725753599@dovtorget.se
SUMMARY:Havsfiske i Varberg
DESCRIPTION:
URL:https://dovtorget.se/event/havsfiske-i-varberg/
LOCATION:Varberg
CATEGORIES:Fiske
ATTACH;FMTTYPE=image/jpeg:https://dovtorget.se/wp-content/uploads/2024/08/Havsfiske.jpg
END:VEVENT
END:VCALENDAR